BEGIN:VCALENDAR
VERSION:2.0
PRODID:-//Hope Evangelical Lutheran Church - ECPv6.15.20//NONSGML v1.0//EN
CALSCALE:GREGORIAN
METHOD:PUBLISH
X-ORIGINAL-URL:https://hopelutheransanmateo.org
X-WR-CALDESC:Events for Hope Evangelical Lutheran Church
REFRESH-INTERVAL;VALUE=DURATION:PT1H
X-Robots-Tag:noindex
X-PUBLISHED-TTL:PT1H
BEGIN:VTIMEZONE
TZID:America/Los_Angeles
BEGIN:DAYLIGHT
TZOFFSETFROM:-0800
TZOFFSETTO:-0700
TZNAME:PDT
DTSTART:20240310T100000
END:DAYLIGHT
BEGIN:STANDARD
TZOFFSETFROM:-0700
TZOFFSETTO:-0800
TZNAME:PST
DTSTART:20241103T090000
END:STANDARD
BEGIN:DAYLIGHT
TZOFFSETFROM:-0800
TZOFFSETTO:-0700
TZNAME:PDT
DTSTART:20250309T100000
END:DAYLIGHT
BEGIN:STANDARD
TZOFFSETFROM:-0700
TZOFFSETTO:-0800
TZNAME:PST
DTSTART:20251102T090000
END:STANDARD
BEGIN:DAYLIGHT
TZOFFSETFROM:-0800
TZOFFSETTO:-0700
TZNAME:PDT
DTSTART:20260308T100000
END:DAYLIGHT
BEGIN:STANDARD
TZOFFSETFROM:-0700
TZOFFSETTO:-0800
TZNAME:PST
DTSTART:20261101T090000
END:STANDARD
END:VTIMEZONE
BEGIN:VEVENT
DTSTART;TZID=America/Los_Angeles:20251115T130000
DTEND;TZID=America/Los_Angeles:20251115T150000
DTSTAMP:20260423T092925
CREATED:20251113T034208Z
LAST-MODIFIED:20251113T035117Z
UID:10002493-1763211600-1763218800@hopelutheransanmateo.org
SUMMARY:Installation Service of Lauren Chambers
DESCRIPTION:Celebrate the ministry of Hope Lutheran Church and the installation of our new Pastor\, Reverend Lauren Chambers! \nThis service can be viewed live on our website under the Worship => Sermons Tab or on our YouTube Channel https://youtube.com/live/4bz5Y7eVVR8?feature=share
URL:https://hopelutheransanmateo.org/event/installation-of-lauren-chambers-as-hopes-pastor/
LOCATION:Hope Lutheran Church\, 600 W. 42nd Avenue\, San Mateo\, 94403\, United States
CATEGORIES:Featured
ATTACH;FMTTYPE=image/jpeg:https://hopelutheransanmateo.org/wp-content/uploads/2025/11/Laurens-Installation.jpg
GEO:37.5245477;-122.305136
X-APPLE-STRUCTURED-LOCATION;VALUE=URI;X-ADDRESS=Hope Lutheran Church 600 W. 42nd Avenue San Mateo 94403 United States;X-APPLE-RADIUS=500;X-TITLE=600 W. 42nd Avenue:geo:-122.305136,37.5245477
END:VEVENT
END:VCALENDAR