BEGIN:VCALENDAR
VERSION:2.0
PRODID:-//Hope Evangelical Lutheran Church - ECPv6.15.20//NONSGML v1.0//EN
CALSCALE:GREGORIAN
METHOD:PUBLISH
X-ORIGINAL-URL:https://hopelutheransanmateo.org
X-WR-CALDESC:Events for Hope Evangelical Lutheran Church
REFRESH-INTERVAL;VALUE=DURATION:PT1H
X-Robots-Tag:noindex
X-PUBLISHED-TTL:PT1H
BEGIN:VTIMEZONE
TZID:America/Los_Angeles
BEGIN:DAYLIGHT
TZOFFSETFROM:-0800
TZOFFSETTO:-0700
TZNAME:PDT
DTSTART:20250309T100000
END:DAYLIGHT
BEGIN:STANDARD
TZOFFSETFROM:-0700
TZOFFSETTO:-0800
TZNAME:PST
DTSTART:20251102T090000
END:STANDARD
BEGIN:DAYLIGHT
TZOFFSETFROM:-0800
TZOFFSETTO:-0700
TZNAME:PDT
DTSTART:20260308T100000
END:DAYLIGHT
BEGIN:STANDARD
TZOFFSETFROM:-0700
TZOFFSETTO:-0800
TZNAME:PST
DTSTART:20261101T090000
END:STANDARD
BEGIN:DAYLIGHT
TZOFFSETFROM:-0800
TZOFFSETTO:-0700
TZNAME:PDT
DTSTART:20270314T100000
END:DAYLIGHT
BEGIN:STANDARD
TZOFFSETFROM:-0700
TZOFFSETTO:-0800
TZNAME:PST
DTSTART:20271107T090000
END:STANDARD
END:VTIMEZONE
BEGIN:VEVENT
DTSTART;TZID=America/Los_Angeles:20260224T093000
DTEND;TZID=America/Los_Angeles:20260224T150000
DTSTAMP:20260423T035112
CREATED:20260103T022851Z
LAST-MODIFIED:20260103T022851Z
UID:10002530-1771925400-1771945200@hopelutheransanmateo.org
SUMMARY:Quilters Group - 2026
DESCRIPTION:Please join our quilters group at Hope Lutheran!   Help assemble beautiful quilts\, enjoy good fellowship and food!   There are plenty of activities that do not require sewing experience!   The quilts are given to local organizations and organizations around the world who are in need.  Come when you can and bring a lunch!   We would love to have you join us!
URL:https://hopelutheransanmateo.org/event/quilters-group-2026/2026-02-24/
LOCATION:Hope Lutheran Church\, 600 W. 42nd Avenue\, San Mateo\, 94403\, United States
CATEGORIES:Featured
ATTACH;FMTTYPE=image/jpeg:https://hopelutheransanmateo.org/wp-content/uploads/2024/11/quilting.jpg
GEO:37.5245477;-122.305136
X-APPLE-STRUCTURED-LOCATION;VALUE=URI;X-ADDRESS=Hope Lutheran Church 600 W. 42nd Avenue San Mateo 94403 United States;X-APPLE-RADIUS=500;X-TITLE=600 W. 42nd Avenue:geo:-122.305136,37.5245477
END:VEVENT
END:VCALENDAR