BEGIN:VCALENDAR
VERSION:2.0
PRODID:-//Hope Evangelical Lutheran Church - ECPv6.15.20//NONSGML v1.0//EN
CALSCALE:GREGORIAN
METHOD:PUBLISH
X-ORIGINAL-URL:https://hopelutheransanmateo.org
X-WR-CALDESC:Events for Hope Evangelical Lutheran Church
REFRESH-INTERVAL;VALUE=DURATION:PT1H
X-Robots-Tag:noindex
X-PUBLISHED-TTL:PT1H
BEGIN:VTIMEZONE
TZID:America/Los_Angeles
BEGIN:DAYLIGHT
TZOFFSETFROM:-0800
TZOFFSETTO:-0700
TZNAME:PDT
DTSTART:20250309T100000
END:DAYLIGHT
BEGIN:STANDARD
TZOFFSETFROM:-0700
TZOFFSETTO:-0800
TZNAME:PST
DTSTART:20251102T090000
END:STANDARD
BEGIN:DAYLIGHT
TZOFFSETFROM:-0800
TZOFFSETTO:-0700
TZNAME:PDT
DTSTART:20260308T100000
END:DAYLIGHT
BEGIN:STANDARD
TZOFFSETFROM:-0700
TZOFFSETTO:-0800
TZNAME:PST
DTSTART:20261101T090000
END:STANDARD
BEGIN:DAYLIGHT
TZOFFSETFROM:-0800
TZOFFSETTO:-0700
TZNAME:PDT
DTSTART:20270314T100000
END:DAYLIGHT
BEGIN:STANDARD
TZOFFSETFROM:-0700
TZOFFSETTO:-0800
TZNAME:PST
DTSTART:20271107T090000
END:STANDARD
END:VTIMEZONE
BEGIN:VEVENT
DTSTART;TZID=America/Los_Angeles:20260104T100000
DTEND;TZID=America/Los_Angeles:20260104T110000
DTSTAMP:20260423T035100
CREATED:20260103T023532Z
LAST-MODIFIED:20260213T211758Z
UID:10002133-1767520800-1767524400@hopelutheransanmateo.org
SUMMARY:Sunday Worship
DESCRIPTION:Please join us for our Sunday worship at 10am as we live our faith in Jesus Christ through listening\, singing and prayer.   We provide a children’s sermon each Sunday.   Communion is given by intinction on most Sundays.  Those who wish to partake in communion are welcome to do so. \nAll are very welcome at our service as well as our fellowship time after church:  Cafe Hope!
URL:https://hopelutheransanmateo.org/event/sunday-worship-2-5/2026-01-04/
LOCATION:Hope Lutheran Church\, 600 W. 42nd Avenue\, San Mateo\, 94403\, United States
CATEGORIES:Featured
ATTACH;FMTTYPE=image/jpeg:https://hopelutheransanmateo.org/wp-content/uploads/2015/06/congregationallchoirsunday.jpg
GEO:37.5245477;-122.305136
X-APPLE-STRUCTURED-LOCATION;VALUE=URI;X-ADDRESS=Hope Lutheran Church 600 W. 42nd Avenue San Mateo 94403 United States;X-APPLE-RADIUS=500;X-TITLE=600 W. 42nd Avenue:geo:-122.305136,37.5245477
END:VEVENT
BEGIN:VEVENT
DTSTART;TZID=America/Los_Angeles:20260104T110000
DTEND;TZID=America/Los_Angeles:20260104T120000
DTSTAMP:20260423T035100
CREATED:20240930T170015Z
LAST-MODIFIED:20240930T170252Z
UID:10001871-1767524400-1767528000@hopelutheransanmateo.org
SUMMARY:Café Hope
DESCRIPTION:Following the worship service\, everyone is invited to Nielsen Hall for fellowship\, coffee and refreshments.
URL:https://hopelutheransanmateo.org/event/church-fellowship/2026-01-04/
LOCATION:Hope Lutheran Church\, 600 W. 42nd Avenue\, San Mateo\, 94403\, United States
ATTACH;FMTTYPE=image/jpeg:https://hopelutheransanmateo.org/wp-content/uploads/2015/05/Coffee.jpg
GEO:37.5245477;-122.305136
X-APPLE-STRUCTURED-LOCATION;VALUE=URI;X-ADDRESS=Hope Lutheran Church 600 W. 42nd Avenue San Mateo 94403 United States;X-APPLE-RADIUS=500;X-TITLE=600 W. 42nd Avenue:geo:-122.305136,37.5245477
END:VEVENT
BEGIN:VEVENT
DTSTART;TZID=America/Los_Angeles:20260104T114500
DTEND;TZID=America/Los_Angeles:20260104T123000
DTSTAMP:20260423T035100
CREATED:20260102T185247Z
LAST-MODIFIED:20260103T015837Z
UID:10002494-1767527100-1767529800@hopelutheransanmateo.org
SUMMARY:Sunday Bible Study:  Book of Psalms
DESCRIPTION:Please join us for a 7 week study of the book of Psalms.   We will meet in Nielsen Hall at 11:45 am each Sunday\, after our service and fellowship time at Cafe Hope.  All are welcome whatever Sundays you can come.
URL:https://hopelutheransanmateo.org/event/2026-bible-study-book-of-psalms/2026-01-04/
LOCATION:Hope Lutheran Church\, 600 W. 42nd Avenue\, San Mateo\, 94403\, United States
CATEGORIES:Featured
ATTACH;FMTTYPE=image/jpeg:https://hopelutheransanmateo.org/wp-content/uploads/2021/12/freely-10264-scaled.jpg
GEO:37.5245477;-122.305136
X-APPLE-STRUCTURED-LOCATION;VALUE=URI;X-ADDRESS=Hope Lutheran Church 600 W. 42nd Avenue San Mateo 94403 United States;X-APPLE-RADIUS=500;X-TITLE=600 W. 42nd Avenue:geo:-122.305136,37.5245477
END:VEVENT
BEGIN:VEVENT
DTSTART;TZID=America/Los_Angeles:20260111T100000
DTEND;TZID=America/Los_Angeles:20260111T110000
DTSTAMP:20260423T035100
CREATED:20260103T023532Z
LAST-MODIFIED:20260213T211758Z
UID:10002134-1768125600-1768129200@hopelutheransanmateo.org
SUMMARY:Sunday Worship
DESCRIPTION:Please join us for our Sunday worship at 10am as we live our faith in Jesus Christ through listening\, singing and prayer.   We provide a children’s sermon each Sunday.   Communion is given by intinction on most Sundays.  Those who wish to partake in communion are welcome to do so. \nAll are very welcome at our service as well as our fellowship time after church:  Cafe Hope!
URL:https://hopelutheransanmateo.org/event/sunday-worship-2-5/2026-01-11/
LOCATION:Hope Lutheran Church\, 600 W. 42nd Avenue\, San Mateo\, 94403\, United States
CATEGORIES:Featured
ATTACH;FMTTYPE=image/jpeg:https://hopelutheransanmateo.org/wp-content/uploads/2015/06/congregationallchoirsunday.jpg
GEO:37.5245477;-122.305136
X-APPLE-STRUCTURED-LOCATION;VALUE=URI;X-ADDRESS=Hope Lutheran Church 600 W. 42nd Avenue San Mateo 94403 United States;X-APPLE-RADIUS=500;X-TITLE=600 W. 42nd Avenue:geo:-122.305136,37.5245477
END:VEVENT
BEGIN:VEVENT
DTSTART;TZID=America/Los_Angeles:20260111T110000
DTEND;TZID=America/Los_Angeles:20260111T120000
DTSTAMP:20260423T035100
CREATED:20240930T170015Z
LAST-MODIFIED:20240930T170252Z
UID:10001872-1768129200-1768132800@hopelutheransanmateo.org
SUMMARY:Café Hope
DESCRIPTION:Following the worship service\, everyone is invited to Nielsen Hall for fellowship\, coffee and refreshments.
URL:https://hopelutheransanmateo.org/event/church-fellowship/2026-01-11/
LOCATION:Hope Lutheran Church\, 600 W. 42nd Avenue\, San Mateo\, 94403\, United States
ATTACH;FMTTYPE=image/jpeg:https://hopelutheransanmateo.org/wp-content/uploads/2015/05/Coffee.jpg
GEO:37.5245477;-122.305136
X-APPLE-STRUCTURED-LOCATION;VALUE=URI;X-ADDRESS=Hope Lutheran Church 600 W. 42nd Avenue San Mateo 94403 United States;X-APPLE-RADIUS=500;X-TITLE=600 W. 42nd Avenue:geo:-122.305136,37.5245477
END:VEVENT
BEGIN:VEVENT
DTSTART;TZID=America/Los_Angeles:20260111T114500
DTEND;TZID=America/Los_Angeles:20260111T123000
DTSTAMP:20260423T035100
CREATED:20260102T185247Z
LAST-MODIFIED:20260103T015837Z
UID:10002495-1768131900-1768134600@hopelutheransanmateo.org
SUMMARY:Sunday Bible Study:  Book of Psalms
DESCRIPTION:Please join us for a 7 week study of the book of Psalms.   We will meet in Nielsen Hall at 11:45 am each Sunday\, after our service and fellowship time at Cafe Hope.  All are welcome whatever Sundays you can come.
URL:https://hopelutheransanmateo.org/event/2026-bible-study-book-of-psalms/2026-01-11/
LOCATION:Hope Lutheran Church\, 600 W. 42nd Avenue\, San Mateo\, 94403\, United States
CATEGORIES:Featured
ATTACH;FMTTYPE=image/jpeg:https://hopelutheransanmateo.org/wp-content/uploads/2021/12/freely-10264-scaled.jpg
GEO:37.5245477;-122.305136
X-APPLE-STRUCTURED-LOCATION;VALUE=URI;X-ADDRESS=Hope Lutheran Church 600 W. 42nd Avenue San Mateo 94403 United States;X-APPLE-RADIUS=500;X-TITLE=600 W. 42nd Avenue:geo:-122.305136,37.5245477
END:VEVENT
BEGIN:VEVENT
DTSTART;TZID=America/Los_Angeles:20260113T093000
DTEND;TZID=America/Los_Angeles:20260113T150000
DTSTAMP:20260423T035100
CREATED:20260103T021118Z
LAST-MODIFIED:20260103T023121Z
UID:10002516-1768296600-1768316400@hopelutheransanmateo.org
SUMMARY:Quilters Group: 2026
DESCRIPTION:Please join our quilters group at Hope Lutheran and help assemble beautiful quilts\, enjoy good fellowship and food!   There are plenty of activities that do not require sewing experience!   The quilts are given to local organizations and organizations around the world who are in need.    We would love to have you join our group!
URL:https://hopelutheransanmateo.org/event/quilters-for-2026/2026-01-13/
LOCATION:Hope Lutheran Church\, 600 W. 42nd Avenue\, San Mateo\, 94403\, United States
CATEGORIES:Featured
ATTACH;FMTTYPE=image/jpeg:https://hopelutheransanmateo.org/wp-content/uploads/2022/09/quilting.jpg
GEO:37.5245477;-122.305136
X-APPLE-STRUCTURED-LOCATION;VALUE=URI;X-ADDRESS=Hope Lutheran Church 600 W. 42nd Avenue San Mateo 94403 United States;X-APPLE-RADIUS=500;X-TITLE=600 W. 42nd Avenue:geo:-122.305136,37.5245477
END:VEVENT
BEGIN:VEVENT
DTSTART;TZID=America/Los_Angeles:20260118T100000
DTEND;TZID=America/Los_Angeles:20260118T110000
DTSTAMP:20260423T035100
CREATED:20260103T023532Z
LAST-MODIFIED:20260213T211758Z
UID:10002135-1768730400-1768734000@hopelutheransanmateo.org
SUMMARY:Sunday Worship
DESCRIPTION:Please join us for our Sunday worship at 10am as we live our faith in Jesus Christ through listening\, singing and prayer.   We provide a children’s sermon each Sunday.   Communion is given by intinction on most Sundays.  Those who wish to partake in communion are welcome to do so. \nAll are very welcome at our service as well as our fellowship time after church:  Cafe Hope!
URL:https://hopelutheransanmateo.org/event/sunday-worship-2-5/2026-01-18/
LOCATION:Hope Lutheran Church\, 600 W. 42nd Avenue\, San Mateo\, 94403\, United States
CATEGORIES:Featured
ATTACH;FMTTYPE=image/jpeg:https://hopelutheransanmateo.org/wp-content/uploads/2015/06/congregationallchoirsunday.jpg
GEO:37.5245477;-122.305136
X-APPLE-STRUCTURED-LOCATION;VALUE=URI;X-ADDRESS=Hope Lutheran Church 600 W. 42nd Avenue San Mateo 94403 United States;X-APPLE-RADIUS=500;X-TITLE=600 W. 42nd Avenue:geo:-122.305136,37.5245477
END:VEVENT
BEGIN:VEVENT
DTSTART;TZID=America/Los_Angeles:20260118T110000
DTEND;TZID=America/Los_Angeles:20260118T120000
DTSTAMP:20260423T035100
CREATED:20240930T170015Z
LAST-MODIFIED:20240930T170252Z
UID:10001873-1768734000-1768737600@hopelutheransanmateo.org
SUMMARY:Café Hope
DESCRIPTION:Following the worship service\, everyone is invited to Nielsen Hall for fellowship\, coffee and refreshments.
URL:https://hopelutheransanmateo.org/event/church-fellowship/2026-01-18/
LOCATION:Hope Lutheran Church\, 600 W. 42nd Avenue\, San Mateo\, 94403\, United States
ATTACH;FMTTYPE=image/jpeg:https://hopelutheransanmateo.org/wp-content/uploads/2015/05/Coffee.jpg
GEO:37.5245477;-122.305136
X-APPLE-STRUCTURED-LOCATION;VALUE=URI;X-ADDRESS=Hope Lutheran Church 600 W. 42nd Avenue San Mateo 94403 United States;X-APPLE-RADIUS=500;X-TITLE=600 W. 42nd Avenue:geo:-122.305136,37.5245477
END:VEVENT
BEGIN:VEVENT
DTSTART;TZID=America/Los_Angeles:20260118T114500
DTEND;TZID=America/Los_Angeles:20260118T123000
DTSTAMP:20260423T035100
CREATED:20260102T185247Z
LAST-MODIFIED:20260103T015837Z
UID:10002496-1768736700-1768739400@hopelutheransanmateo.org
SUMMARY:Sunday Bible Study:  Book of Psalms
DESCRIPTION:Please join us for a 7 week study of the book of Psalms.   We will meet in Nielsen Hall at 11:45 am each Sunday\, after our service and fellowship time at Cafe Hope.  All are welcome whatever Sundays you can come.
URL:https://hopelutheransanmateo.org/event/2026-bible-study-book-of-psalms/2026-01-18/
LOCATION:Hope Lutheran Church\, 600 W. 42nd Avenue\, San Mateo\, 94403\, United States
CATEGORIES:Featured
ATTACH;FMTTYPE=image/jpeg:https://hopelutheransanmateo.org/wp-content/uploads/2021/12/freely-10264-scaled.jpg
GEO:37.5245477;-122.305136
X-APPLE-STRUCTURED-LOCATION;VALUE=URI;X-ADDRESS=Hope Lutheran Church 600 W. 42nd Avenue San Mateo 94403 United States;X-APPLE-RADIUS=500;X-TITLE=600 W. 42nd Avenue:geo:-122.305136,37.5245477
END:VEVENT
BEGIN:VEVENT
DTSTART;TZID=America/Los_Angeles:20260120T103000
DTEND;TZID=America/Los_Angeles:20260120T113000
DTSTAMP:20260423T035100
CREATED:20260102T192940Z
LAST-MODIFIED:20260103T015728Z
UID:10002503-1768905000-1768908600@hopelutheransanmateo.org
SUMMARY:Women's Bible Study: 2026
DESCRIPTION:All friends and members are cordially invited to attend our Women’s Bible Study\, held in Nielsen Hall on the 3rd Tuesdays of the month at 10:30.
URL:https://hopelutheransanmateo.org/event/womens-bible-studies-2026/2026-01-20/
LOCATION:Hope Lutheran Church\, 600 W. 42nd Avenue\, San Mateo\, 94403\, United States
CATEGORIES:Featured
ATTACH;FMTTYPE=image/jpeg:https://hopelutheransanmateo.org/wp-content/uploads/2022/09/freely-10226-1-scaled.jpg
GEO:37.5245477;-122.305136
X-APPLE-STRUCTURED-LOCATION;VALUE=URI;X-ADDRESS=Hope Lutheran Church 600 W. 42nd Avenue San Mateo 94403 United States;X-APPLE-RADIUS=500;X-TITLE=600 W. 42nd Avenue:geo:-122.305136,37.5245477
END:VEVENT
BEGIN:VEVENT
DTSTART;TZID=America/Los_Angeles:20260125T100000
DTEND;TZID=America/Los_Angeles:20260125T110000
DTSTAMP:20260423T035100
CREATED:20260103T023532Z
LAST-MODIFIED:20260213T211758Z
UID:10002136-1769335200-1769338800@hopelutheransanmateo.org
SUMMARY:Sunday Worship
DESCRIPTION:Please join us for our Sunday worship at 10am as we live our faith in Jesus Christ through listening\, singing and prayer.   We provide a children’s sermon each Sunday.   Communion is given by intinction on most Sundays.  Those who wish to partake in communion are welcome to do so. \nAll are very welcome at our service as well as our fellowship time after church:  Cafe Hope!
URL:https://hopelutheransanmateo.org/event/sunday-worship-2-5/2026-01-25/
LOCATION:Hope Lutheran Church\, 600 W. 42nd Avenue\, San Mateo\, 94403\, United States
CATEGORIES:Featured
ATTACH;FMTTYPE=image/jpeg:https://hopelutheransanmateo.org/wp-content/uploads/2015/06/congregationallchoirsunday.jpg
GEO:37.5245477;-122.305136
X-APPLE-STRUCTURED-LOCATION;VALUE=URI;X-ADDRESS=Hope Lutheran Church 600 W. 42nd Avenue San Mateo 94403 United States;X-APPLE-RADIUS=500;X-TITLE=600 W. 42nd Avenue:geo:-122.305136,37.5245477
END:VEVENT
BEGIN:VEVENT
DTSTART;TZID=America/Los_Angeles:20260125T110000
DTEND;TZID=America/Los_Angeles:20260125T120000
DTSTAMP:20260423T035100
CREATED:20240930T170015Z
LAST-MODIFIED:20240930T170252Z
UID:10001874-1769338800-1769342400@hopelutheransanmateo.org
SUMMARY:Café Hope
DESCRIPTION:Following the worship service\, everyone is invited to Nielsen Hall for fellowship\, coffee and refreshments.
URL:https://hopelutheransanmateo.org/event/church-fellowship/2026-01-25/
LOCATION:Hope Lutheran Church\, 600 W. 42nd Avenue\, San Mateo\, 94403\, United States
ATTACH;FMTTYPE=image/jpeg:https://hopelutheransanmateo.org/wp-content/uploads/2015/05/Coffee.jpg
GEO:37.5245477;-122.305136
X-APPLE-STRUCTURED-LOCATION;VALUE=URI;X-ADDRESS=Hope Lutheran Church 600 W. 42nd Avenue San Mateo 94403 United States;X-APPLE-RADIUS=500;X-TITLE=600 W. 42nd Avenue:geo:-122.305136,37.5245477
END:VEVENT
BEGIN:VEVENT
DTSTART;TZID=America/Los_Angeles:20260125T113000
DTEND;TZID=America/Los_Angeles:20260125T123000
DTSTAMP:20260423T035100
CREATED:20260102T191147Z
LAST-MODIFIED:20260102T191700Z
UID:10002502-1769340600-1769344200@hopelutheransanmateo.org
SUMMARY:Semi-Annual Congregation Meeting
DESCRIPTION:Members and friends of Hope are invited to attend our semi-annual congregation meeting on Sunday\, January 25\, immediately following the service.  Financial updates and major project updates will be provided.   The 2026 budget will be presented for approval.  A light lunch will be provided.
URL:https://hopelutheransanmateo.org/event/semi-annual-congregation-meeting/
LOCATION:Hope Lutheran Church\, 600 W. 42nd Avenue\, San Mateo\, 94403\, United States
ATTACH;FMTTYPE=image/jpeg:https://hopelutheransanmateo.org/wp-content/uploads/2026/01/Congregational-MeetingJan2022-e1767381331189.jpg
GEO:37.5245477;-122.305136
X-APPLE-STRUCTURED-LOCATION;VALUE=URI;X-ADDRESS=Hope Lutheran Church 600 W. 42nd Avenue San Mateo 94403 United States;X-APPLE-RADIUS=500;X-TITLE=600 W. 42nd Avenue:geo:-122.305136,37.5245477
END:VEVENT
BEGIN:VEVENT
DTSTART;TZID=America/Los_Angeles:20260127T093000
DTEND;TZID=America/Los_Angeles:20260127T150000
DTSTAMP:20260423T035100
CREATED:20260103T022851Z
LAST-MODIFIED:20260103T022851Z
UID:10002529-1769506200-1769526000@hopelutheransanmateo.org
SUMMARY:Quilters Group - 2026
DESCRIPTION:Please join our quilters group at Hope Lutheran!   Help assemble beautiful quilts\, enjoy good fellowship and food!   There are plenty of activities that do not require sewing experience!   The quilts are given to local organizations and organizations around the world who are in need.  Come when you can and bring a lunch!   We would love to have you join us!
URL:https://hopelutheransanmateo.org/event/quilters-group-2026/2026-01-27/
LOCATION:Hope Lutheran Church\, 600 W. 42nd Avenue\, San Mateo\, 94403\, United States
CATEGORIES:Featured
ATTACH;FMTTYPE=image/jpeg:https://hopelutheransanmateo.org/wp-content/uploads/2024/11/quilting.jpg
GEO:37.5245477;-122.305136
X-APPLE-STRUCTURED-LOCATION;VALUE=URI;X-ADDRESS=Hope Lutheran Church 600 W. 42nd Avenue San Mateo 94403 United States;X-APPLE-RADIUS=500;X-TITLE=600 W. 42nd Avenue:geo:-122.305136,37.5245477
END:VEVENT
END:VCALENDAR