BEGIN:VCALENDAR
VERSION:2.0
PRODID:-//Hope Evangelical Lutheran Church - ECPv6.15.20//NONSGML v1.0//EN
CALSCALE:GREGORIAN
METHOD:PUBLISH
X-ORIGINAL-URL:https://hopelutheransanmateo.org
X-WR-CALDESC:Events for Hope Evangelical Lutheran Church
REFRESH-INTERVAL;VALUE=DURATION:PT1H
X-Robots-Tag:noindex
X-PUBLISHED-TTL:PT1H
BEGIN:VTIMEZONE
TZID:America/Los_Angeles
BEGIN:DAYLIGHT
TZOFFSETFROM:-0800
TZOFFSETTO:-0700
TZNAME:PDT
DTSTART:20220313T100000
END:DAYLIGHT
BEGIN:STANDARD
TZOFFSETFROM:-0700
TZOFFSETTO:-0800
TZNAME:PST
DTSTART:20221106T090000
END:STANDARD
BEGIN:DAYLIGHT
TZOFFSETFROM:-0800
TZOFFSETTO:-0700
TZNAME:PDT
DTSTART:20230312T100000
END:DAYLIGHT
BEGIN:STANDARD
TZOFFSETFROM:-0700
TZOFFSETTO:-0800
TZNAME:PST
DTSTART:20231105T090000
END:STANDARD
BEGIN:DAYLIGHT
TZOFFSETFROM:-0800
TZOFFSETTO:-0700
TZNAME:PDT
DTSTART:20240310T100000
END:DAYLIGHT
BEGIN:STANDARD
TZOFFSETFROM:-0700
TZOFFSETTO:-0800
TZNAME:PST
DTSTART:20241103T090000
END:STANDARD
END:VTIMEZONE
BEGIN:VEVENT
DTSTART;TZID=America/Los_Angeles:20230822T093000
DTEND;TZID=America/Los_Angeles:20230822T150000
DTSTAMP:20260425T183646
CREATED:20230821T024255Z
LAST-MODIFIED:20230821T024255Z
UID:10001663-1692696600-1692716400@hopelutheransanmateo.org
SUMMARY:Quilters
DESCRIPTION:Join our group of enthusiastic quilters.  No quilting or sewing machine experience needed!  The group makes quilts which are given to needy organizations.  Good food\, coffee and fellowship abound.  We would love to have you attend!
URL:https://hopelutheransanmateo.org/event/quilters-2/2023-08-22/
LOCATION:Hope Lutheran Church\, 600 W. 42nd Avenue\, San Mateo\, 94403\, United States
CATEGORIES:Featured
ATTACH;FMTTYPE=image/jpeg:https://hopelutheransanmateo.org/wp-content/uploads/2022/09/quilting.jpg
GEO:37.5245477;-122.305136
X-APPLE-STRUCTURED-LOCATION;VALUE=URI;X-ADDRESS=Hope Lutheran Church 600 W. 42nd Avenue San Mateo 94403 United States;X-APPLE-RADIUS=500;X-TITLE=600 W. 42nd Avenue:geo:-122.305136,37.5245477
END:VEVENT
BEGIN:VEVENT
DTSTART;TZID=America/Los_Angeles:20230820T110000
DTEND;TZID=America/Los_Angeles:20230820T120000
DTSTAMP:20260425T183646
CREATED:20160815T064728Z
LAST-MODIFIED:20220914T183314Z
UID:10000724-1692529200-1692532800@hopelutheransanmateo.org
SUMMARY:Café Hope
DESCRIPTION:Following the worship service\, everyone is invited to Nielsen Hall for fellowship\, coffee and refreshments.
URL:https://hopelutheransanmateo.org/event/cafe-hope/2023-08-20/
LOCATION:Hope Lutheran Church\, 600 W. 42nd Avenue\, San Mateo\, 94403\, United States
ATTACH;FMTTYPE=image/jpeg:https://hopelutheransanmateo.org/wp-content/uploads/2015/05/Coffee.jpg
GEO:37.5245477;-122.305136
X-APPLE-STRUCTURED-LOCATION;VALUE=URI;X-ADDRESS=Hope Lutheran Church 600 W. 42nd Avenue San Mateo 94403 United States;X-APPLE-RADIUS=500;X-TITLE=600 W. 42nd Avenue:geo:-122.305136,37.5245477
END:VEVENT
BEGIN:VEVENT
DTSTART;TZID=America/Los_Angeles:20230820T100000
DTEND;TZID=America/Los_Angeles:20230820T110000
DTSTAMP:20260425T183646
CREATED:20160815T061425Z
LAST-MODIFIED:20220914T200650Z
UID:10000531-1692525600-1692529200@hopelutheransanmateo.org
SUMMARY:Worship
DESCRIPTION:
URL:https://hopelutheransanmateo.org/event/worship/2023-08-20/
LOCATION:Hope Lutheran Church\, 600 W. 42nd Avenue\, San Mateo\, 94403\, United States
ATTACH;FMTTYPE=image/jpeg:https://hopelutheransanmateo.org/wp-content/uploads/2016/06/HopeLutheranCongregation.jpg
GEO:37.5245477;-122.305136
X-APPLE-STRUCTURED-LOCATION;VALUE=URI;X-ADDRESS=Hope Lutheran Church 600 W. 42nd Avenue San Mateo 94403 United States;X-APPLE-RADIUS=500;X-TITLE=600 W. 42nd Avenue:geo:-122.305136,37.5245477
END:VEVENT
BEGIN:VEVENT
DTSTART;TZID=America/Los_Angeles:20230815T103000
DTEND;TZID=America/Los_Angeles:20230815T113000
DTSTAMP:20260425T183646
CREATED:20230112T170746Z
LAST-MODIFIED:20230821T015126Z
UID:10001562-1692095400-1692099000@hopelutheransanmateo.org
SUMMARY:Woman's Bible Study
DESCRIPTION:Join us for great discussions and fellowship every month!  We use the Lutheran monthly publication\, “Gather” as the basis of our discussions.   Please join us!  All are welcome!
URL:https://hopelutheransanmateo.org/event/womans-bible-study/2023-08-15/
LOCATION:Hope Lutheran Church\, 600 W. 42nd Avenue\, San Mateo\, 94403\, United States
CATEGORIES:Featured
ATTACH;FMTTYPE=image/jpeg:https://hopelutheransanmateo.org/wp-content/uploads/2021/12/Depositphotos_52439851_Small.jpg
GEO:37.5245477;-122.305136
X-APPLE-STRUCTURED-LOCATION;VALUE=URI;X-ADDRESS=Hope Lutheran Church 600 W. 42nd Avenue San Mateo 94403 United States;X-APPLE-RADIUS=500;X-TITLE=600 W. 42nd Avenue:geo:-122.305136,37.5245477
END:VEVENT
BEGIN:VEVENT
DTSTART;TZID=America/Los_Angeles:20230813T110000
DTEND;TZID=America/Los_Angeles:20230813T120000
DTSTAMP:20260425T183646
CREATED:20160815T064728Z
LAST-MODIFIED:20220914T183314Z
UID:10000723-1691924400-1691928000@hopelutheransanmateo.org
SUMMARY:Café Hope
DESCRIPTION:Following the worship service\, everyone is invited to Nielsen Hall for fellowship\, coffee and refreshments.
URL:https://hopelutheransanmateo.org/event/cafe-hope/2023-08-13/
LOCATION:Hope Lutheran Church\, 600 W. 42nd Avenue\, San Mateo\, 94403\, United States
ATTACH;FMTTYPE=image/jpeg:https://hopelutheransanmateo.org/wp-content/uploads/2015/05/Coffee.jpg
GEO:37.5245477;-122.305136
X-APPLE-STRUCTURED-LOCATION;VALUE=URI;X-ADDRESS=Hope Lutheran Church 600 W. 42nd Avenue San Mateo 94403 United States;X-APPLE-RADIUS=500;X-TITLE=600 W. 42nd Avenue:geo:-122.305136,37.5245477
END:VEVENT
BEGIN:VEVENT
DTSTART;TZID=America/Los_Angeles:20230813T100000
DTEND;TZID=America/Los_Angeles:20230813T110000
DTSTAMP:20260425T183646
CREATED:20160815T061425Z
LAST-MODIFIED:20220914T200650Z
UID:10000530-1691920800-1691924400@hopelutheransanmateo.org
SUMMARY:Worship
DESCRIPTION:
URL:https://hopelutheransanmateo.org/event/worship/2023-08-13/
LOCATION:Hope Lutheran Church\, 600 W. 42nd Avenue\, San Mateo\, 94403\, United States
ATTACH;FMTTYPE=image/jpeg:https://hopelutheransanmateo.org/wp-content/uploads/2016/06/HopeLutheranCongregation.jpg
GEO:37.5245477;-122.305136
X-APPLE-STRUCTURED-LOCATION;VALUE=URI;X-ADDRESS=Hope Lutheran Church 600 W. 42nd Avenue San Mateo 94403 United States;X-APPLE-RADIUS=500;X-TITLE=600 W. 42nd Avenue:geo:-122.305136,37.5245477
END:VEVENT
BEGIN:VEVENT
DTSTART;TZID=America/Los_Angeles:20230806T110000
DTEND;TZID=America/Los_Angeles:20230806T120000
DTSTAMP:20260425T183646
CREATED:20160815T064728Z
LAST-MODIFIED:20220914T183314Z
UID:10000722-1691319600-1691323200@hopelutheransanmateo.org
SUMMARY:Café Hope
DESCRIPTION:Following the worship service\, everyone is invited to Nielsen Hall for fellowship\, coffee and refreshments.
URL:https://hopelutheransanmateo.org/event/cafe-hope/2023-08-06/
LOCATION:Hope Lutheran Church\, 600 W. 42nd Avenue\, San Mateo\, 94403\, United States
ATTACH;FMTTYPE=image/jpeg:https://hopelutheransanmateo.org/wp-content/uploads/2015/05/Coffee.jpg
GEO:37.5245477;-122.305136
X-APPLE-STRUCTURED-LOCATION;VALUE=URI;X-ADDRESS=Hope Lutheran Church 600 W. 42nd Avenue San Mateo 94403 United States;X-APPLE-RADIUS=500;X-TITLE=600 W. 42nd Avenue:geo:-122.305136,37.5245477
END:VEVENT
BEGIN:VEVENT
DTSTART;TZID=America/Los_Angeles:20230806T100000
DTEND;TZID=America/Los_Angeles:20230806T110000
DTSTAMP:20260425T183646
CREATED:20160815T061425Z
LAST-MODIFIED:20220914T200650Z
UID:10000529-1691316000-1691319600@hopelutheransanmateo.org
SUMMARY:Worship
DESCRIPTION:
URL:https://hopelutheransanmateo.org/event/worship/2023-08-06/
LOCATION:Hope Lutheran Church\, 600 W. 42nd Avenue\, San Mateo\, 94403\, United States
ATTACH;FMTTYPE=image/jpeg:https://hopelutheransanmateo.org/wp-content/uploads/2016/06/HopeLutheranCongregation.jpg
GEO:37.5245477;-122.305136
X-APPLE-STRUCTURED-LOCATION;VALUE=URI;X-ADDRESS=Hope Lutheran Church 600 W. 42nd Avenue San Mateo 94403 United States;X-APPLE-RADIUS=500;X-TITLE=600 W. 42nd Avenue:geo:-122.305136,37.5245477
END:VEVENT
BEGIN:VEVENT
DTSTART;TZID=America/Los_Angeles:20230730T110000
DTEND;TZID=America/Los_Angeles:20230730T120000
DTSTAMP:20260425T183646
CREATED:20160815T064728Z
LAST-MODIFIED:20220914T183314Z
UID:10000721-1690714800-1690718400@hopelutheransanmateo.org
SUMMARY:Café Hope
DESCRIPTION:Following the worship service\, everyone is invited to Nielsen Hall for fellowship\, coffee and refreshments.
URL:https://hopelutheransanmateo.org/event/cafe-hope/2023-07-30/
LOCATION:Hope Lutheran Church\, 600 W. 42nd Avenue\, San Mateo\, 94403\, United States
ATTACH;FMTTYPE=image/jpeg:https://hopelutheransanmateo.org/wp-content/uploads/2015/05/Coffee.jpg
GEO:37.5245477;-122.305136
X-APPLE-STRUCTURED-LOCATION;VALUE=URI;X-ADDRESS=Hope Lutheran Church 600 W. 42nd Avenue San Mateo 94403 United States;X-APPLE-RADIUS=500;X-TITLE=600 W. 42nd Avenue:geo:-122.305136,37.5245477
END:VEVENT
BEGIN:VEVENT
DTSTART;TZID=America/Los_Angeles:20230730T100000
DTEND;TZID=America/Los_Angeles:20230730T110000
DTSTAMP:20260425T183646
CREATED:20160815T061425Z
LAST-MODIFIED:20220914T200650Z
UID:10000528-1690711200-1690714800@hopelutheransanmateo.org
SUMMARY:Worship
DESCRIPTION:
URL:https://hopelutheransanmateo.org/event/worship/2023-07-30/
LOCATION:Hope Lutheran Church\, 600 W. 42nd Avenue\, San Mateo\, 94403\, United States
ATTACH;FMTTYPE=image/jpeg:https://hopelutheransanmateo.org/wp-content/uploads/2016/06/HopeLutheranCongregation.jpg
GEO:37.5245477;-122.305136
X-APPLE-STRUCTURED-LOCATION;VALUE=URI;X-ADDRESS=Hope Lutheran Church 600 W. 42nd Avenue San Mateo 94403 United States;X-APPLE-RADIUS=500;X-TITLE=600 W. 42nd Avenue:geo:-122.305136,37.5245477
END:VEVENT
BEGIN:VEVENT
DTSTART;TZID=America/Los_Angeles:20230723T110000
DTEND;TZID=America/Los_Angeles:20230723T120000
DTSTAMP:20260425T183646
CREATED:20160815T064728Z
LAST-MODIFIED:20220914T183314Z
UID:10000720-1690110000-1690113600@hopelutheransanmateo.org
SUMMARY:Café Hope
DESCRIPTION:Following the worship service\, everyone is invited to Nielsen Hall for fellowship\, coffee and refreshments.
URL:https://hopelutheransanmateo.org/event/cafe-hope/2023-07-23/
LOCATION:Hope Lutheran Church\, 600 W. 42nd Avenue\, San Mateo\, 94403\, United States
ATTACH;FMTTYPE=image/jpeg:https://hopelutheransanmateo.org/wp-content/uploads/2015/05/Coffee.jpg
GEO:37.5245477;-122.305136
X-APPLE-STRUCTURED-LOCATION;VALUE=URI;X-ADDRESS=Hope Lutheran Church 600 W. 42nd Avenue San Mateo 94403 United States;X-APPLE-RADIUS=500;X-TITLE=600 W. 42nd Avenue:geo:-122.305136,37.5245477
END:VEVENT
BEGIN:VEVENT
DTSTART;TZID=America/Los_Angeles:20230723T100000
DTEND;TZID=America/Los_Angeles:20230723T110000
DTSTAMP:20260425T183646
CREATED:20160815T061425Z
LAST-MODIFIED:20220914T200650Z
UID:10000527-1690106400-1690110000@hopelutheransanmateo.org
SUMMARY:Worship
DESCRIPTION:
URL:https://hopelutheransanmateo.org/event/worship/2023-07-23/
LOCATION:Hope Lutheran Church\, 600 W. 42nd Avenue\, San Mateo\, 94403\, United States
ATTACH;FMTTYPE=image/jpeg:https://hopelutheransanmateo.org/wp-content/uploads/2016/06/HopeLutheranCongregation.jpg
GEO:37.5245477;-122.305136
X-APPLE-STRUCTURED-LOCATION;VALUE=URI;X-ADDRESS=Hope Lutheran Church 600 W. 42nd Avenue San Mateo 94403 United States;X-APPLE-RADIUS=500;X-TITLE=600 W. 42nd Avenue:geo:-122.305136,37.5245477
END:VEVENT
BEGIN:VEVENT
DTSTART;TZID=America/Los_Angeles:20230718T103000
DTEND;TZID=America/Los_Angeles:20230718T113000
DTSTAMP:20260425T183646
CREATED:20230112T170746Z
LAST-MODIFIED:20230821T015126Z
UID:10001561-1689676200-1689679800@hopelutheransanmateo.org
SUMMARY:Woman's Bible Study
DESCRIPTION:Join us for great discussions and fellowship every month!  We use the Lutheran monthly publication\, “Gather” as the basis of our discussions.   Please join us!  All are welcome!
URL:https://hopelutheransanmateo.org/event/womans-bible-study/2023-07-18/
LOCATION:Hope Lutheran Church\, 600 W. 42nd Avenue\, San Mateo\, 94403\, United States
CATEGORIES:Featured
ATTACH;FMTTYPE=image/jpeg:https://hopelutheransanmateo.org/wp-content/uploads/2021/12/Depositphotos_52439851_Small.jpg
GEO:37.5245477;-122.305136
X-APPLE-STRUCTURED-LOCATION;VALUE=URI;X-ADDRESS=Hope Lutheran Church 600 W. 42nd Avenue San Mateo 94403 United States;X-APPLE-RADIUS=500;X-TITLE=600 W. 42nd Avenue:geo:-122.305136,37.5245477
END:VEVENT
BEGIN:VEVENT
DTSTART;TZID=America/Los_Angeles:20230716T110000
DTEND;TZID=America/Los_Angeles:20230716T120000
DTSTAMP:20260425T183646
CREATED:20160815T064728Z
LAST-MODIFIED:20220914T183314Z
UID:10000719-1689505200-1689508800@hopelutheransanmateo.org
SUMMARY:Café Hope
DESCRIPTION:Following the worship service\, everyone is invited to Nielsen Hall for fellowship\, coffee and refreshments.
URL:https://hopelutheransanmateo.org/event/cafe-hope/2023-07-16/
LOCATION:Hope Lutheran Church\, 600 W. 42nd Avenue\, San Mateo\, 94403\, United States
ATTACH;FMTTYPE=image/jpeg:https://hopelutheransanmateo.org/wp-content/uploads/2015/05/Coffee.jpg
GEO:37.5245477;-122.305136
X-APPLE-STRUCTURED-LOCATION;VALUE=URI;X-ADDRESS=Hope Lutheran Church 600 W. 42nd Avenue San Mateo 94403 United States;X-APPLE-RADIUS=500;X-TITLE=600 W. 42nd Avenue:geo:-122.305136,37.5245477
END:VEVENT
BEGIN:VEVENT
DTSTART;TZID=America/Los_Angeles:20230716T100000
DTEND;TZID=America/Los_Angeles:20230716T110000
DTSTAMP:20260425T183646
CREATED:20160815T061425Z
LAST-MODIFIED:20220914T200650Z
UID:10000526-1689501600-1689505200@hopelutheransanmateo.org
SUMMARY:Worship
DESCRIPTION:
URL:https://hopelutheransanmateo.org/event/worship/2023-07-16/
LOCATION:Hope Lutheran Church\, 600 W. 42nd Avenue\, San Mateo\, 94403\, United States
ATTACH;FMTTYPE=image/jpeg:https://hopelutheransanmateo.org/wp-content/uploads/2016/06/HopeLutheranCongregation.jpg
GEO:37.5245477;-122.305136
X-APPLE-STRUCTURED-LOCATION;VALUE=URI;X-ADDRESS=Hope Lutheran Church 600 W. 42nd Avenue San Mateo 94403 United States;X-APPLE-RADIUS=500;X-TITLE=600 W. 42nd Avenue:geo:-122.305136,37.5245477
END:VEVENT
BEGIN:VEVENT
DTSTART;TZID=America/Los_Angeles:20230709T110000
DTEND;TZID=America/Los_Angeles:20230709T120000
DTSTAMP:20260425T183646
CREATED:20160815T064728Z
LAST-MODIFIED:20220914T183314Z
UID:10000718-1688900400-1688904000@hopelutheransanmateo.org
SUMMARY:Café Hope
DESCRIPTION:Following the worship service\, everyone is invited to Nielsen Hall for fellowship\, coffee and refreshments.
URL:https://hopelutheransanmateo.org/event/cafe-hope/2023-07-09/
LOCATION:Hope Lutheran Church\, 600 W. 42nd Avenue\, San Mateo\, 94403\, United States
ATTACH;FMTTYPE=image/jpeg:https://hopelutheransanmateo.org/wp-content/uploads/2015/05/Coffee.jpg
GEO:37.5245477;-122.305136
X-APPLE-STRUCTURED-LOCATION;VALUE=URI;X-ADDRESS=Hope Lutheran Church 600 W. 42nd Avenue San Mateo 94403 United States;X-APPLE-RADIUS=500;X-TITLE=600 W. 42nd Avenue:geo:-122.305136,37.5245477
END:VEVENT
BEGIN:VEVENT
DTSTART;TZID=America/Los_Angeles:20230709T100000
DTEND;TZID=America/Los_Angeles:20230709T110000
DTSTAMP:20260425T183646
CREATED:20160815T061425Z
LAST-MODIFIED:20220914T200650Z
UID:10000525-1688896800-1688900400@hopelutheransanmateo.org
SUMMARY:Worship
DESCRIPTION:
URL:https://hopelutheransanmateo.org/event/worship/2023-07-09/
LOCATION:Hope Lutheran Church\, 600 W. 42nd Avenue\, San Mateo\, 94403\, United States
ATTACH;FMTTYPE=image/jpeg:https://hopelutheransanmateo.org/wp-content/uploads/2016/06/HopeLutheranCongregation.jpg
GEO:37.5245477;-122.305136
X-APPLE-STRUCTURED-LOCATION;VALUE=URI;X-ADDRESS=Hope Lutheran Church 600 W. 42nd Avenue San Mateo 94403 United States;X-APPLE-RADIUS=500;X-TITLE=600 W. 42nd Avenue:geo:-122.305136,37.5245477
END:VEVENT
BEGIN:VEVENT
DTSTART;TZID=America/Los_Angeles:20230702T110000
DTEND;TZID=America/Los_Angeles:20230702T120000
DTSTAMP:20260425T183646
CREATED:20160815T064728Z
LAST-MODIFIED:20220914T183314Z
UID:10000717-1688295600-1688299200@hopelutheransanmateo.org
SUMMARY:Café Hope
DESCRIPTION:Following the worship service\, everyone is invited to Nielsen Hall for fellowship\, coffee and refreshments.
URL:https://hopelutheransanmateo.org/event/cafe-hope/2023-07-02/
LOCATION:Hope Lutheran Church\, 600 W. 42nd Avenue\, San Mateo\, 94403\, United States
ATTACH;FMTTYPE=image/jpeg:https://hopelutheransanmateo.org/wp-content/uploads/2015/05/Coffee.jpg
GEO:37.5245477;-122.305136
X-APPLE-STRUCTURED-LOCATION;VALUE=URI;X-ADDRESS=Hope Lutheran Church 600 W. 42nd Avenue San Mateo 94403 United States;X-APPLE-RADIUS=500;X-TITLE=600 W. 42nd Avenue:geo:-122.305136,37.5245477
END:VEVENT
BEGIN:VEVENT
DTSTART;TZID=America/Los_Angeles:20230702T100000
DTEND;TZID=America/Los_Angeles:20230702T110000
DTSTAMP:20260425T183646
CREATED:20160815T061425Z
LAST-MODIFIED:20220914T200650Z
UID:10000524-1688292000-1688295600@hopelutheransanmateo.org
SUMMARY:Worship
DESCRIPTION:
URL:https://hopelutheransanmateo.org/event/worship/2023-07-02/
LOCATION:Hope Lutheran Church\, 600 W. 42nd Avenue\, San Mateo\, 94403\, United States
ATTACH;FMTTYPE=image/jpeg:https://hopelutheransanmateo.org/wp-content/uploads/2016/06/HopeLutheranCongregation.jpg
GEO:37.5245477;-122.305136
X-APPLE-STRUCTURED-LOCATION;VALUE=URI;X-ADDRESS=Hope Lutheran Church 600 W. 42nd Avenue San Mateo 94403 United States;X-APPLE-RADIUS=500;X-TITLE=600 W. 42nd Avenue:geo:-122.305136,37.5245477
END:VEVENT
BEGIN:VEVENT
DTSTART;TZID=America/Los_Angeles:20230625T114500
DTEND;TZID=America/Los_Angeles:20230625T123000
DTSTAMP:20260425T183646
CREATED:20230112T163134Z
LAST-MODIFIED:20230821T013109Z
UID:10001420-1687693500-1687696200@hopelutheransanmateo.org
SUMMARY:Sunday Bible Study - 2023
DESCRIPTION:Back by popular demand\, we will be studying the book of Revelation.  Full of prophetic visions\, the permanent significance of Revelation lies in the author’s conviction that right will ultimately triumph over evil.   Join us on Sunday mornings!
URL:https://hopelutheransanmateo.org/event/sunday-bible-study-2023/2023-06-25/
LOCATION:Hope Lutheran Church\, 600 W. 42nd Avenue\, San Mateo\, 94403\, United States
CATEGORIES:Featured
ATTACH;FMTTYPE=image/jpeg:https://hopelutheransanmateo.org/wp-content/uploads/2022/09/freely-10226-1-scaled.jpg
GEO:37.5245477;-122.305136
X-APPLE-STRUCTURED-LOCATION;VALUE=URI;X-ADDRESS=Hope Lutheran Church 600 W. 42nd Avenue San Mateo 94403 United States;X-APPLE-RADIUS=500;X-TITLE=600 W. 42nd Avenue:geo:-122.305136,37.5245477
END:VEVENT
BEGIN:VEVENT
DTSTART;TZID=America/Los_Angeles:20230625T110000
DTEND;TZID=America/Los_Angeles:20230625T120000
DTSTAMP:20260425T183646
CREATED:20160815T064728Z
LAST-MODIFIED:20220914T183314Z
UID:10000716-1687690800-1687694400@hopelutheransanmateo.org
SUMMARY:Café Hope
DESCRIPTION:Following the worship service\, everyone is invited to Nielsen Hall for fellowship\, coffee and refreshments.
URL:https://hopelutheransanmateo.org/event/cafe-hope/2023-06-25/
LOCATION:Hope Lutheran Church\, 600 W. 42nd Avenue\, San Mateo\, 94403\, United States
ATTACH;FMTTYPE=image/jpeg:https://hopelutheransanmateo.org/wp-content/uploads/2015/05/Coffee.jpg
GEO:37.5245477;-122.305136
X-APPLE-STRUCTURED-LOCATION;VALUE=URI;X-ADDRESS=Hope Lutheran Church 600 W. 42nd Avenue San Mateo 94403 United States;X-APPLE-RADIUS=500;X-TITLE=600 W. 42nd Avenue:geo:-122.305136,37.5245477
END:VEVENT
BEGIN:VEVENT
DTSTART;TZID=America/Los_Angeles:20230625T100000
DTEND;TZID=America/Los_Angeles:20230625T110000
DTSTAMP:20260425T183646
CREATED:20160815T061425Z
LAST-MODIFIED:20220914T200650Z
UID:10000523-1687687200-1687690800@hopelutheransanmateo.org
SUMMARY:Worship
DESCRIPTION:
URL:https://hopelutheransanmateo.org/event/worship/2023-06-25/
LOCATION:Hope Lutheran Church\, 600 W. 42nd Avenue\, San Mateo\, 94403\, United States
ATTACH;FMTTYPE=image/jpeg:https://hopelutheransanmateo.org/wp-content/uploads/2016/06/HopeLutheranCongregation.jpg
GEO:37.5245477;-122.305136
X-APPLE-STRUCTURED-LOCATION;VALUE=URI;X-ADDRESS=Hope Lutheran Church 600 W. 42nd Avenue San Mateo 94403 United States;X-APPLE-RADIUS=500;X-TITLE=600 W. 42nd Avenue:geo:-122.305136,37.5245477
END:VEVENT
BEGIN:VEVENT
DTSTART;TZID=America/Los_Angeles:20230620T103000
DTEND;TZID=America/Los_Angeles:20230620T113000
DTSTAMP:20260425T183646
CREATED:20230112T170746Z
LAST-MODIFIED:20230821T015126Z
UID:10001470-1687257000-1687260600@hopelutheransanmateo.org
SUMMARY:Woman's Bible Study
DESCRIPTION:Join us for great discussions and fellowship every month!  We use the Lutheran monthly publication\, “Gather” as the basis of our discussions.   Please join us!  All are welcome!
URL:https://hopelutheransanmateo.org/event/womans-bible-study/2023-06-20/
LOCATION:Hope Lutheran Church\, 600 W. 42nd Avenue\, San Mateo\, 94403\, United States
CATEGORIES:Featured
ATTACH;FMTTYPE=image/jpeg:https://hopelutheransanmateo.org/wp-content/uploads/2021/12/Depositphotos_52439851_Small.jpg
GEO:37.5245477;-122.305136
X-APPLE-STRUCTURED-LOCATION;VALUE=URI;X-ADDRESS=Hope Lutheran Church 600 W. 42nd Avenue San Mateo 94403 United States;X-APPLE-RADIUS=500;X-TITLE=600 W. 42nd Avenue:geo:-122.305136,37.5245477
END:VEVENT
BEGIN:VEVENT
DTSTART;TZID=America/Los_Angeles:20230618T114500
DTEND;TZID=America/Los_Angeles:20230618T123000
DTSTAMP:20260425T183646
CREATED:20230112T163134Z
LAST-MODIFIED:20230821T013109Z
UID:10001419-1687088700-1687091400@hopelutheransanmateo.org
SUMMARY:Sunday Bible Study - 2023
DESCRIPTION:Back by popular demand\, we will be studying the book of Revelation.  Full of prophetic visions\, the permanent significance of Revelation lies in the author’s conviction that right will ultimately triumph over evil.   Join us on Sunday mornings!
URL:https://hopelutheransanmateo.org/event/sunday-bible-study-2023/2023-06-18/
LOCATION:Hope Lutheran Church\, 600 W. 42nd Avenue\, San Mateo\, 94403\, United States
CATEGORIES:Featured
ATTACH;FMTTYPE=image/jpeg:https://hopelutheransanmateo.org/wp-content/uploads/2022/09/freely-10226-1-scaled.jpg
GEO:37.5245477;-122.305136
X-APPLE-STRUCTURED-LOCATION;VALUE=URI;X-ADDRESS=Hope Lutheran Church 600 W. 42nd Avenue San Mateo 94403 United States;X-APPLE-RADIUS=500;X-TITLE=600 W. 42nd Avenue:geo:-122.305136,37.5245477
END:VEVENT
BEGIN:VEVENT
DTSTART;TZID=America/Los_Angeles:20230618T110000
DTEND;TZID=America/Los_Angeles:20230618T120000
DTSTAMP:20260425T183646
CREATED:20160815T064728Z
LAST-MODIFIED:20220914T183314Z
UID:10000715-1687086000-1687089600@hopelutheransanmateo.org
SUMMARY:Café Hope
DESCRIPTION:Following the worship service\, everyone is invited to Nielsen Hall for fellowship\, coffee and refreshments.
URL:https://hopelutheransanmateo.org/event/cafe-hope/2023-06-18/
LOCATION:Hope Lutheran Church\, 600 W. 42nd Avenue\, San Mateo\, 94403\, United States
ATTACH;FMTTYPE=image/jpeg:https://hopelutheransanmateo.org/wp-content/uploads/2015/05/Coffee.jpg
GEO:37.5245477;-122.305136
X-APPLE-STRUCTURED-LOCATION;VALUE=URI;X-ADDRESS=Hope Lutheran Church 600 W. 42nd Avenue San Mateo 94403 United States;X-APPLE-RADIUS=500;X-TITLE=600 W. 42nd Avenue:geo:-122.305136,37.5245477
END:VEVENT
BEGIN:VEVENT
DTSTART;TZID=America/Los_Angeles:20230618T100000
DTEND;TZID=America/Los_Angeles:20230618T110000
DTSTAMP:20260425T183646
CREATED:20160815T061425Z
LAST-MODIFIED:20220914T200650Z
UID:10000522-1687082400-1687086000@hopelutheransanmateo.org
SUMMARY:Worship
DESCRIPTION:
URL:https://hopelutheransanmateo.org/event/worship/2023-06-18/
LOCATION:Hope Lutheran Church\, 600 W. 42nd Avenue\, San Mateo\, 94403\, United States
ATTACH;FMTTYPE=image/jpeg:https://hopelutheransanmateo.org/wp-content/uploads/2016/06/HopeLutheranCongregation.jpg
GEO:37.5245477;-122.305136
X-APPLE-STRUCTURED-LOCATION;VALUE=URI;X-ADDRESS=Hope Lutheran Church 600 W. 42nd Avenue San Mateo 94403 United States;X-APPLE-RADIUS=500;X-TITLE=600 W. 42nd Avenue:geo:-122.305136,37.5245477
END:VEVENT
BEGIN:VEVENT
DTSTART;TZID=America/Los_Angeles:20230611T114500
DTEND;TZID=America/Los_Angeles:20230611T123000
DTSTAMP:20260425T183646
CREATED:20230112T163134Z
LAST-MODIFIED:20230821T013109Z
UID:10001418-1686483900-1686486600@hopelutheransanmateo.org
SUMMARY:Sunday Bible Study - 2023
DESCRIPTION:Back by popular demand\, we will be studying the book of Revelation.  Full of prophetic visions\, the permanent significance of Revelation lies in the author’s conviction that right will ultimately triumph over evil.   Join us on Sunday mornings!
URL:https://hopelutheransanmateo.org/event/sunday-bible-study-2023/2023-06-11/
LOCATION:Hope Lutheran Church\, 600 W. 42nd Avenue\, San Mateo\, 94403\, United States
CATEGORIES:Featured
ATTACH;FMTTYPE=image/jpeg:https://hopelutheransanmateo.org/wp-content/uploads/2022/09/freely-10226-1-scaled.jpg
GEO:37.5245477;-122.305136
X-APPLE-STRUCTURED-LOCATION;VALUE=URI;X-ADDRESS=Hope Lutheran Church 600 W. 42nd Avenue San Mateo 94403 United States;X-APPLE-RADIUS=500;X-TITLE=600 W. 42nd Avenue:geo:-122.305136,37.5245477
END:VEVENT
BEGIN:VEVENT
DTSTART;TZID=America/Los_Angeles:20230611T110000
DTEND;TZID=America/Los_Angeles:20230611T120000
DTSTAMP:20260425T183646
CREATED:20160815T064728Z
LAST-MODIFIED:20220914T183314Z
UID:10000714-1686481200-1686484800@hopelutheransanmateo.org
SUMMARY:Café Hope
DESCRIPTION:Following the worship service\, everyone is invited to Nielsen Hall for fellowship\, coffee and refreshments.
URL:https://hopelutheransanmateo.org/event/cafe-hope/2023-06-11/
LOCATION:Hope Lutheran Church\, 600 W. 42nd Avenue\, San Mateo\, 94403\, United States
ATTACH;FMTTYPE=image/jpeg:https://hopelutheransanmateo.org/wp-content/uploads/2015/05/Coffee.jpg
GEO:37.5245477;-122.305136
X-APPLE-STRUCTURED-LOCATION;VALUE=URI;X-ADDRESS=Hope Lutheran Church 600 W. 42nd Avenue San Mateo 94403 United States;X-APPLE-RADIUS=500;X-TITLE=600 W. 42nd Avenue:geo:-122.305136,37.5245477
END:VEVENT
BEGIN:VEVENT
DTSTART;TZID=America/Los_Angeles:20230611T100000
DTEND;TZID=America/Los_Angeles:20230611T110000
DTSTAMP:20260425T183646
CREATED:20160815T061425Z
LAST-MODIFIED:20220914T200650Z
UID:10000521-1686477600-1686481200@hopelutheransanmateo.org
SUMMARY:Worship
DESCRIPTION:
URL:https://hopelutheransanmateo.org/event/worship/2023-06-11/
LOCATION:Hope Lutheran Church\, 600 W. 42nd Avenue\, San Mateo\, 94403\, United States
ATTACH;FMTTYPE=image/jpeg:https://hopelutheransanmateo.org/wp-content/uploads/2016/06/HopeLutheranCongregation.jpg
GEO:37.5245477;-122.305136
X-APPLE-STRUCTURED-LOCATION;VALUE=URI;X-ADDRESS=Hope Lutheran Church 600 W. 42nd Avenue San Mateo 94403 United States;X-APPLE-RADIUS=500;X-TITLE=600 W. 42nd Avenue:geo:-122.305136,37.5245477
END:VEVENT
BEGIN:VEVENT
DTSTART;TZID=America/Los_Angeles:20230604T114500
DTEND;TZID=America/Los_Angeles:20230604T123000
DTSTAMP:20260425T183646
CREATED:20230112T163134Z
LAST-MODIFIED:20230821T013109Z
UID:10001417-1685879100-1685881800@hopelutheransanmateo.org
SUMMARY:Sunday Bible Study - 2023
DESCRIPTION:Back by popular demand\, we will be studying the book of Revelation.  Full of prophetic visions\, the permanent significance of Revelation lies in the author’s conviction that right will ultimately triumph over evil.   Join us on Sunday mornings!
URL:https://hopelutheransanmateo.org/event/sunday-bible-study-2023/2023-06-04/
LOCATION:Hope Lutheran Church\, 600 W. 42nd Avenue\, San Mateo\, 94403\, United States
CATEGORIES:Featured
ATTACH;FMTTYPE=image/jpeg:https://hopelutheransanmateo.org/wp-content/uploads/2022/09/freely-10226-1-scaled.jpg
GEO:37.5245477;-122.305136
X-APPLE-STRUCTURED-LOCATION;VALUE=URI;X-ADDRESS=Hope Lutheran Church 600 W. 42nd Avenue San Mateo 94403 United States;X-APPLE-RADIUS=500;X-TITLE=600 W. 42nd Avenue:geo:-122.305136,37.5245477
END:VEVENT
END:VCALENDAR