BEGIN:VCALENDAR
VERSION:2.0
PRODID:-//Hope Evangelical Lutheran Church - ECPv6.15.20//NONSGML v1.0//EN
CALSCALE:GREGORIAN
METHOD:PUBLISH
X-ORIGINAL-URL:https://hopelutheransanmateo.org
X-WR-CALDESC:Events for Hope Evangelical Lutheran Church
REFRESH-INTERVAL;VALUE=DURATION:PT1H
X-Robots-Tag:noindex
X-PUBLISHED-TTL:PT1H
BEGIN:VTIMEZONE
TZID:America/Los_Angeles
BEGIN:DAYLIGHT
TZOFFSETFROM:-0800
TZOFFSETTO:-0700
TZNAME:PDT
DTSTART:20220313T100000
END:DAYLIGHT
BEGIN:STANDARD
TZOFFSETFROM:-0700
TZOFFSETTO:-0800
TZNAME:PST
DTSTART:20221106T090000
END:STANDARD
BEGIN:DAYLIGHT
TZOFFSETFROM:-0800
TZOFFSETTO:-0700
TZNAME:PDT
DTSTART:20230312T100000
END:DAYLIGHT
BEGIN:STANDARD
TZOFFSETFROM:-0700
TZOFFSETTO:-0800
TZNAME:PST
DTSTART:20231105T090000
END:STANDARD
BEGIN:DAYLIGHT
TZOFFSETFROM:-0800
TZOFFSETTO:-0700
TZNAME:PDT
DTSTART:20240310T100000
END:DAYLIGHT
BEGIN:STANDARD
TZOFFSETFROM:-0700
TZOFFSETTO:-0800
TZNAME:PST
DTSTART:20241103T090000
END:STANDARD
BEGIN:DAYLIGHT
TZOFFSETFROM:-0800
TZOFFSETTO:-0700
TZNAME:PDT
DTSTART:20250309T100000
END:DAYLIGHT
BEGIN:STANDARD
TZOFFSETFROM:-0700
TZOFFSETTO:-0800
TZNAME:PST
DTSTART:20251102T090000
END:STANDARD
END:VTIMEZONE
BEGIN:VEVENT
DTSTART;TZID=America/Los_Angeles:20231203T100000
DTEND;TZID=America/Los_Angeles:20231203T110000
DTSTAMP:20260425T095516
CREATED:20160815T061425Z
LAST-MODIFIED:20220914T200650Z
UID:10000546-1701597600-1701601200@hopelutheransanmateo.org
SUMMARY:Worship
DESCRIPTION:
URL:https://hopelutheransanmateo.org/event/worship/2023-12-03/
LOCATION:Hope Lutheran Church\, 600 W. 42nd Avenue\, San Mateo\, 94403\, United States
ATTACH;FMTTYPE=image/jpeg:https://hopelutheransanmateo.org/wp-content/uploads/2016/06/HopeLutheranCongregation.jpg
GEO:37.5245477;-122.305136
X-APPLE-STRUCTURED-LOCATION;VALUE=URI;X-ADDRESS=Hope Lutheran Church 600 W. 42nd Avenue San Mateo 94403 United States;X-APPLE-RADIUS=500;X-TITLE=600 W. 42nd Avenue:geo:-122.305136,37.5245477
END:VEVENT
BEGIN:VEVENT
DTSTART;TZID=America/Los_Angeles:20231203T110000
DTEND;TZID=America/Los_Angeles:20231203T120000
DTSTAMP:20260425T095516
CREATED:20160815T064728Z
LAST-MODIFIED:20220914T183314Z
UID:10000739-1701601200-1701604800@hopelutheransanmateo.org
SUMMARY:Café Hope
DESCRIPTION:Following the worship service\, everyone is invited to Nielsen Hall for fellowship\, coffee and refreshments.
URL:https://hopelutheransanmateo.org/event/cafe-hope/2023-12-03/
LOCATION:Hope Lutheran Church\, 600 W. 42nd Avenue\, San Mateo\, 94403\, United States
ATTACH;FMTTYPE=image/jpeg:https://hopelutheransanmateo.org/wp-content/uploads/2015/05/Coffee.jpg
GEO:37.5245477;-122.305136
X-APPLE-STRUCTURED-LOCATION;VALUE=URI;X-ADDRESS=Hope Lutheran Church 600 W. 42nd Avenue San Mateo 94403 United States;X-APPLE-RADIUS=500;X-TITLE=600 W. 42nd Avenue:geo:-122.305136,37.5245477
END:VEVENT
BEGIN:VEVENT
DTSTART;TZID=America/Los_Angeles:20231203T114500
DTEND;TZID=America/Los_Angeles:20231203T123000
DTSTAMP:20260425T095516
CREATED:20230821T011130Z
LAST-MODIFIED:20231125T173056Z
UID:10001581-1701603900-1701606600@hopelutheransanmateo.org
SUMMARY:Sunday Morning Bible Study
DESCRIPTION:We will study the book of Genesis\, focusing on the relevance of the Patriarchal stories for us.  Join Us!
URL:https://hopelutheransanmateo.org/event/sunday-morning-bible-study/2023-12-03/
LOCATION:Hope Lutheran Church\, 600 W. 42nd Avenue\, San Mateo\, 94403\, United States
CATEGORIES:Featured
ATTACH;FMTTYPE=image/jpeg:https://hopelutheransanmateo.org/wp-content/uploads/2021/12/freely-10264-scaled.jpg
GEO:37.5245477;-122.305136
X-APPLE-STRUCTURED-LOCATION;VALUE=URI;X-ADDRESS=Hope Lutheran Church 600 W. 42nd Avenue San Mateo 94403 United States;X-APPLE-RADIUS=500;X-TITLE=600 W. 42nd Avenue:geo:-122.305136,37.5245477
END:VEVENT
BEGIN:VEVENT
DTSTART;TZID=America/Los_Angeles:20231206T170000
DTEND;TZID=America/Los_Angeles:20231206T180000
DTSTAMP:20260425T095516
CREATED:20230821T160947Z
LAST-MODIFIED:20230821T160947Z
UID:10001697-1701882000-1701885600@hopelutheransanmateo.org
SUMMARY:Choir Rehearsal
DESCRIPTION:Music is a very important part of Hope Lutheran Church.   We would love to have you join the choir and participate in our beautiful music program.
URL:https://hopelutheransanmateo.org/event/choir-rehearsal/2023-12-06/
LOCATION:Hope Lutheran Church\, 600 W. 42nd Avenue\, San Mateo\, 94403\, United States
ATTACH;FMTTYPE=image/jpeg:https://hopelutheransanmateo.org/wp-content/uploads/2015/05/OrganBottom.jpg
GEO:37.5245477;-122.305136
X-APPLE-STRUCTURED-LOCATION;VALUE=URI;X-ADDRESS=Hope Lutheran Church 600 W. 42nd Avenue San Mateo 94403 United States;X-APPLE-RADIUS=500;X-TITLE=600 W. 42nd Avenue:geo:-122.305136,37.5245477
END:VEVENT
BEGIN:VEVENT
DTSTART;TZID=America/Los_Angeles:20231206T180000
DTEND;TZID=America/Los_Angeles:20231206T190000
DTSTAMP:20260425T095516
CREATED:20230821T161535Z
LAST-MODIFIED:20230821T161720Z
UID:10001737-1701885600-1701889200@hopelutheransanmateo.org
SUMMARY:Handbell Rehearsal
DESCRIPTION:Music is a very important part of our worship experience at Hope.   Led\, by our talented past choir director\, Alex Bootzin\, the bell choir shares their gifts of music with the congregation throughout the year — September through June.
URL:https://hopelutheransanmateo.org/event/handbell-rehearsal/2023-12-06/
LOCATION:Hope Lutheran Church\, 600 W. 42nd Avenue\, San Mateo\, 94403\, United States
ATTACH;FMTTYPE=image/jpeg:https://hopelutheransanmateo.org/wp-content/uploads/2021/12/BellChoirPic.jpg
GEO:37.5245477;-122.305136
X-APPLE-STRUCTURED-LOCATION;VALUE=URI;X-ADDRESS=Hope Lutheran Church 600 W. 42nd Avenue San Mateo 94403 United States;X-APPLE-RADIUS=500;X-TITLE=600 W. 42nd Avenue:geo:-122.305136,37.5245477
END:VEVENT
BEGIN:VEVENT
DTSTART;TZID=America/Los_Angeles:20231210T100000
DTEND;TZID=America/Los_Angeles:20231210T110000
DTSTAMP:20260425T095516
CREATED:20160815T061425Z
LAST-MODIFIED:20220914T200650Z
UID:10000547-1702202400-1702206000@hopelutheransanmateo.org
SUMMARY:Worship
DESCRIPTION:
URL:https://hopelutheransanmateo.org/event/worship/2023-12-10/
LOCATION:Hope Lutheran Church\, 600 W. 42nd Avenue\, San Mateo\, 94403\, United States
ATTACH;FMTTYPE=image/jpeg:https://hopelutheransanmateo.org/wp-content/uploads/2016/06/HopeLutheranCongregation.jpg
GEO:37.5245477;-122.305136
X-APPLE-STRUCTURED-LOCATION;VALUE=URI;X-ADDRESS=Hope Lutheran Church 600 W. 42nd Avenue San Mateo 94403 United States;X-APPLE-RADIUS=500;X-TITLE=600 W. 42nd Avenue:geo:-122.305136,37.5245477
END:VEVENT
BEGIN:VEVENT
DTSTART;TZID=America/Los_Angeles:20231210T110000
DTEND;TZID=America/Los_Angeles:20231210T120000
DTSTAMP:20260425T095516
CREATED:20160815T064728Z
LAST-MODIFIED:20220914T183314Z
UID:10000740-1702206000-1702209600@hopelutheransanmateo.org
SUMMARY:Café Hope
DESCRIPTION:Following the worship service\, everyone is invited to Nielsen Hall for fellowship\, coffee and refreshments.
URL:https://hopelutheransanmateo.org/event/cafe-hope/2023-12-10/
LOCATION:Hope Lutheran Church\, 600 W. 42nd Avenue\, San Mateo\, 94403\, United States
ATTACH;FMTTYPE=image/jpeg:https://hopelutheransanmateo.org/wp-content/uploads/2015/05/Coffee.jpg
GEO:37.5245477;-122.305136
X-APPLE-STRUCTURED-LOCATION;VALUE=URI;X-ADDRESS=Hope Lutheran Church 600 W. 42nd Avenue San Mateo 94403 United States;X-APPLE-RADIUS=500;X-TITLE=600 W. 42nd Avenue:geo:-122.305136,37.5245477
END:VEVENT
BEGIN:VEVENT
DTSTART;TZID=America/Los_Angeles:20231210T110000
DTEND;TZID=America/Los_Angeles:20231210T130000
DTSTAMP:20260425T095516
CREATED:20231125T172818Z
LAST-MODIFIED:20231125T172818Z
UID:10001767-1702206000-1702213200@hopelutheransanmateo.org
SUMMARY:International Brunch and Quilt Auction
DESCRIPTION:Join us after worship in Nielsen Hall for a wonderful brunch featuring international dishes.  The quilters will action off some of the very finest quilts.  Perfect for gifts or for your home. \n 
URL:https://hopelutheransanmateo.org/event/international-brunch-and-quilt-auction/
LOCATION:Hope Lutheran Church\, 600 W. 42nd Avenue\, San Mateo\, 94403\, United States
CATEGORIES:Featured
ATTACH;FMTTYPE=image/jpeg:https://hopelutheransanmateo.org/wp-content/uploads/2022/11/InternationalBrunch-e1668301895271.jpg
GEO:37.5245477;-122.305136
X-APPLE-STRUCTURED-LOCATION;VALUE=URI;X-ADDRESS=Hope Lutheran Church 600 W. 42nd Avenue San Mateo 94403 United States;X-APPLE-RADIUS=500;X-TITLE=600 W. 42nd Avenue:geo:-122.305136,37.5245477
END:VEVENT
BEGIN:VEVENT
DTSTART;TZID=America/Los_Angeles:20231212T093000
DTEND;TZID=America/Los_Angeles:20231212T150000
DTSTAMP:20260425T095516
CREATED:20230821T022308Z
LAST-MODIFIED:20230821T022308Z
UID:10001621-1702373400-1702393200@hopelutheransanmateo.org
SUMMARY:Quilters
DESCRIPTION:Join our enthusiastic group of quilters who meet twice a month and create lovely quilts.  Most of the quilts are given each year to needy organizations.   You do not need to be a sewing expert to be able to help.   Good food\, coffee and fellowship are always in abundance.
URL:https://hopelutheransanmateo.org/event/quilters-3/2023-12-12/
LOCATION:Hope Lutheran Church\, 600 W. 42nd Avenue\, San Mateo\, 94403\, United States
CATEGORIES:Featured
ATTACH;FMTTYPE=image/jpeg:https://hopelutheransanmateo.org/wp-content/uploads/2022/09/quilting.jpg
GEO:37.5245477;-122.305136
X-APPLE-STRUCTURED-LOCATION;VALUE=URI;X-ADDRESS=Hope Lutheran Church 600 W. 42nd Avenue San Mateo 94403 United States;X-APPLE-RADIUS=500;X-TITLE=600 W. 42nd Avenue:geo:-122.305136,37.5245477
END:VEVENT
BEGIN:VEVENT
DTSTART;TZID=America/Los_Angeles:20231213T170000
DTEND;TZID=America/Los_Angeles:20231213T180000
DTSTAMP:20260425T095516
CREATED:20230821T160947Z
LAST-MODIFIED:20230821T160947Z
UID:10001698-1702486800-1702490400@hopelutheransanmateo.org
SUMMARY:Choir Rehearsal
DESCRIPTION:Music is a very important part of Hope Lutheran Church.   We would love to have you join the choir and participate in our beautiful music program.
URL:https://hopelutheransanmateo.org/event/choir-rehearsal/2023-12-13/
LOCATION:Hope Lutheran Church\, 600 W. 42nd Avenue\, San Mateo\, 94403\, United States
ATTACH;FMTTYPE=image/jpeg:https://hopelutheransanmateo.org/wp-content/uploads/2015/05/OrganBottom.jpg
GEO:37.5245477;-122.305136
X-APPLE-STRUCTURED-LOCATION;VALUE=URI;X-ADDRESS=Hope Lutheran Church 600 W. 42nd Avenue San Mateo 94403 United States;X-APPLE-RADIUS=500;X-TITLE=600 W. 42nd Avenue:geo:-122.305136,37.5245477
END:VEVENT
BEGIN:VEVENT
DTSTART;TZID=America/Los_Angeles:20231213T180000
DTEND;TZID=America/Los_Angeles:20231213T190000
DTSTAMP:20260425T095516
CREATED:20230821T161535Z
LAST-MODIFIED:20230821T161720Z
UID:10001738-1702490400-1702494000@hopelutheransanmateo.org
SUMMARY:Handbell Rehearsal
DESCRIPTION:Music is a very important part of our worship experience at Hope.   Led\, by our talented past choir director\, Alex Bootzin\, the bell choir shares their gifts of music with the congregation throughout the year — September through June.
URL:https://hopelutheransanmateo.org/event/handbell-rehearsal/2023-12-13/
LOCATION:Hope Lutheran Church\, 600 W. 42nd Avenue\, San Mateo\, 94403\, United States
ATTACH;FMTTYPE=image/jpeg:https://hopelutheransanmateo.org/wp-content/uploads/2021/12/BellChoirPic.jpg
GEO:37.5245477;-122.305136
X-APPLE-STRUCTURED-LOCATION;VALUE=URI;X-ADDRESS=Hope Lutheran Church 600 W. 42nd Avenue San Mateo 94403 United States;X-APPLE-RADIUS=500;X-TITLE=600 W. 42nd Avenue:geo:-122.305136,37.5245477
END:VEVENT
BEGIN:VEVENT
DTSTART;TZID=America/Los_Angeles:20231217T100000
DTEND;TZID=America/Los_Angeles:20231217T110000
DTSTAMP:20260425T095516
CREATED:20160815T061425Z
LAST-MODIFIED:20220914T200650Z
UID:10000548-1702807200-1702810800@hopelutheransanmateo.org
SUMMARY:Worship
DESCRIPTION:
URL:https://hopelutheransanmateo.org/event/worship/2023-12-17/
LOCATION:Hope Lutheran Church\, 600 W. 42nd Avenue\, San Mateo\, 94403\, United States
ATTACH;FMTTYPE=image/jpeg:https://hopelutheransanmateo.org/wp-content/uploads/2016/06/HopeLutheranCongregation.jpg
GEO:37.5245477;-122.305136
X-APPLE-STRUCTURED-LOCATION;VALUE=URI;X-ADDRESS=Hope Lutheran Church 600 W. 42nd Avenue San Mateo 94403 United States;X-APPLE-RADIUS=500;X-TITLE=600 W. 42nd Avenue:geo:-122.305136,37.5245477
END:VEVENT
BEGIN:VEVENT
DTSTART;TZID=America/Los_Angeles:20231217T110000
DTEND;TZID=America/Los_Angeles:20231217T120000
DTSTAMP:20260425T095516
CREATED:20160815T064728Z
LAST-MODIFIED:20220914T183314Z
UID:10000741-1702810800-1702814400@hopelutheransanmateo.org
SUMMARY:Café Hope
DESCRIPTION:Following the worship service\, everyone is invited to Nielsen Hall for fellowship\, coffee and refreshments.
URL:https://hopelutheransanmateo.org/event/cafe-hope/2023-12-17/
LOCATION:Hope Lutheran Church\, 600 W. 42nd Avenue\, San Mateo\, 94403\, United States
ATTACH;FMTTYPE=image/jpeg:https://hopelutheransanmateo.org/wp-content/uploads/2015/05/Coffee.jpg
GEO:37.5245477;-122.305136
X-APPLE-STRUCTURED-LOCATION;VALUE=URI;X-ADDRESS=Hope Lutheran Church 600 W. 42nd Avenue San Mateo 94403 United States;X-APPLE-RADIUS=500;X-TITLE=600 W. 42nd Avenue:geo:-122.305136,37.5245477
END:VEVENT
BEGIN:VEVENT
DTSTART;TZID=America/Los_Angeles:20231217T110000
DTEND;TZID=America/Los_Angeles:20231217T130000
DTSTAMP:20260425T095516
CREATED:20231125T173836Z
LAST-MODIFIED:20231125T173836Z
UID:10001768-1702810800-1702818000@hopelutheransanmateo.org
SUMMARY:Caroling and Cookie Exchange
DESCRIPTION:We will celebrate the Christmas season with song and and exchange of cookies\, right after worship in Nielsen Hall.  Please join us!
URL:https://hopelutheransanmateo.org/event/caroling-and-cookie-exchange/
LOCATION:Hope Lutheran Church\, 600 W. 42nd Avenue\, San Mateo\, 94403\, United States
CATEGORIES:Featured
ATTACH;FMTTYPE=image/jpeg:https://hopelutheransanmateo.org/wp-content/uploads/2023/11/christmascarolcropped.jpg
GEO:37.5245477;-122.305136
X-APPLE-STRUCTURED-LOCATION;VALUE=URI;X-ADDRESS=Hope Lutheran Church 600 W. 42nd Avenue San Mateo 94403 United States;X-APPLE-RADIUS=500;X-TITLE=600 W. 42nd Avenue:geo:-122.305136,37.5245477
END:VEVENT
BEGIN:VEVENT
DTSTART;TZID=America/Los_Angeles:20231219T103000
DTEND;TZID=America/Los_Angeles:20231219T113000
DTSTAMP:20260425T095516
CREATED:20230112T170746Z
LAST-MODIFIED:20230821T015126Z
UID:10001566-1702981800-1702985400@hopelutheransanmateo.org
SUMMARY:Woman's Bible Study
DESCRIPTION:Join us for great discussions and fellowship every month!  We use the Lutheran monthly publication\, “Gather” as the basis of our discussions.   Please join us!  All are welcome!
URL:https://hopelutheransanmateo.org/event/womans-bible-study/2023-12-19/
LOCATION:Hope Lutheran Church\, 600 W. 42nd Avenue\, San Mateo\, 94403\, United States
CATEGORIES:Featured
ATTACH;FMTTYPE=image/jpeg:https://hopelutheransanmateo.org/wp-content/uploads/2021/12/Depositphotos_52439851_Small.jpg
GEO:37.5245477;-122.305136
X-APPLE-STRUCTURED-LOCATION;VALUE=URI;X-ADDRESS=Hope Lutheran Church 600 W. 42nd Avenue San Mateo 94403 United States;X-APPLE-RADIUS=500;X-TITLE=600 W. 42nd Avenue:geo:-122.305136,37.5245477
END:VEVENT
BEGIN:VEVENT
DTSTART;TZID=America/Los_Angeles:20231220T170000
DTEND;TZID=America/Los_Angeles:20231220T180000
DTSTAMP:20260425T095516
CREATED:20230821T160947Z
LAST-MODIFIED:20230821T160947Z
UID:10001699-1703091600-1703095200@hopelutheransanmateo.org
SUMMARY:Choir Rehearsal
DESCRIPTION:Music is a very important part of Hope Lutheran Church.   We would love to have you join the choir and participate in our beautiful music program.
URL:https://hopelutheransanmateo.org/event/choir-rehearsal/2023-12-20/
LOCATION:Hope Lutheran Church\, 600 W. 42nd Avenue\, San Mateo\, 94403\, United States
ATTACH;FMTTYPE=image/jpeg:https://hopelutheransanmateo.org/wp-content/uploads/2015/05/OrganBottom.jpg
GEO:37.5245477;-122.305136
X-APPLE-STRUCTURED-LOCATION;VALUE=URI;X-ADDRESS=Hope Lutheran Church 600 W. 42nd Avenue San Mateo 94403 United States;X-APPLE-RADIUS=500;X-TITLE=600 W. 42nd Avenue:geo:-122.305136,37.5245477
END:VEVENT
BEGIN:VEVENT
DTSTART;TZID=America/Los_Angeles:20231220T180000
DTEND;TZID=America/Los_Angeles:20231220T190000
DTSTAMP:20260425T095516
CREATED:20230821T161535Z
LAST-MODIFIED:20230821T161720Z
UID:10001739-1703095200-1703098800@hopelutheransanmateo.org
SUMMARY:Handbell Rehearsal
DESCRIPTION:Music is a very important part of our worship experience at Hope.   Led\, by our talented past choir director\, Alex Bootzin\, the bell choir shares their gifts of music with the congregation throughout the year — September through June.
URL:https://hopelutheransanmateo.org/event/handbell-rehearsal/2023-12-20/
LOCATION:Hope Lutheran Church\, 600 W. 42nd Avenue\, San Mateo\, 94403\, United States
ATTACH;FMTTYPE=image/jpeg:https://hopelutheransanmateo.org/wp-content/uploads/2021/12/BellChoirPic.jpg
GEO:37.5245477;-122.305136
X-APPLE-STRUCTURED-LOCATION;VALUE=URI;X-ADDRESS=Hope Lutheran Church 600 W. 42nd Avenue San Mateo 94403 United States;X-APPLE-RADIUS=500;X-TITLE=600 W. 42nd Avenue:geo:-122.305136,37.5245477
END:VEVENT
BEGIN:VEVENT
DTSTART;TZID=America/Los_Angeles:20231224T100000
DTEND;TZID=America/Los_Angeles:20231224T110000
DTSTAMP:20260425T095516
CREATED:20160815T061425Z
LAST-MODIFIED:20220914T200650Z
UID:10000549-1703412000-1703415600@hopelutheransanmateo.org
SUMMARY:Worship
DESCRIPTION:
URL:https://hopelutheransanmateo.org/event/worship/2023-12-24/
LOCATION:Hope Lutheran Church\, 600 W. 42nd Avenue\, San Mateo\, 94403\, United States
ATTACH;FMTTYPE=image/jpeg:https://hopelutheransanmateo.org/wp-content/uploads/2016/06/HopeLutheranCongregation.jpg
GEO:37.5245477;-122.305136
X-APPLE-STRUCTURED-LOCATION;VALUE=URI;X-ADDRESS=Hope Lutheran Church 600 W. 42nd Avenue San Mateo 94403 United States;X-APPLE-RADIUS=500;X-TITLE=600 W. 42nd Avenue:geo:-122.305136,37.5245477
END:VEVENT
BEGIN:VEVENT
DTSTART;TZID=America/Los_Angeles:20231224T110000
DTEND;TZID=America/Los_Angeles:20231224T120000
DTSTAMP:20260425T095516
CREATED:20160815T064728Z
LAST-MODIFIED:20220914T183314Z
UID:10000742-1703415600-1703419200@hopelutheransanmateo.org
SUMMARY:Café Hope
DESCRIPTION:Following the worship service\, everyone is invited to Nielsen Hall for fellowship\, coffee and refreshments.
URL:https://hopelutheransanmateo.org/event/cafe-hope/2023-12-24/
LOCATION:Hope Lutheran Church\, 600 W. 42nd Avenue\, San Mateo\, 94403\, United States
ATTACH;FMTTYPE=image/jpeg:https://hopelutheransanmateo.org/wp-content/uploads/2015/05/Coffee.jpg
GEO:37.5245477;-122.305136
X-APPLE-STRUCTURED-LOCATION;VALUE=URI;X-ADDRESS=Hope Lutheran Church 600 W. 42nd Avenue San Mateo 94403 United States;X-APPLE-RADIUS=500;X-TITLE=600 W. 42nd Avenue:geo:-122.305136,37.5245477
END:VEVENT
BEGIN:VEVENT
DTSTART;TZID=America/Los_Angeles:20231224T170000
DTEND;TZID=America/Los_Angeles:20231224T180000
DTSTAMP:20260425T095516
CREATED:20231125T174726Z
LAST-MODIFIED:20231125T174726Z
UID:10001769-1703437200-1703440800@hopelutheransanmateo.org
SUMMARY:Christmas Eve Candlelight Service
DESCRIPTION:Please join us on Christmas Eve as we celebrate the birth of Jesus.  The service will include our traditional readings\, carols and candles (safety approved)
URL:https://hopelutheransanmateo.org/event/christmas-eve-candlelight-service-2/
LOCATION:Hope Lutheran Church\, 600 W. 42nd Avenue\, San Mateo\, 94403\, United States
CATEGORIES:Featured
ATTACH;FMTTYPE=image/jpeg:https://hopelutheransanmateo.org/wp-content/uploads/2023/11/ChristmasEve2020.jpg
GEO:37.5245477;-122.305136
X-APPLE-STRUCTURED-LOCATION;VALUE=URI;X-ADDRESS=Hope Lutheran Church 600 W. 42nd Avenue San Mateo 94403 United States;X-APPLE-RADIUS=500;X-TITLE=600 W. 42nd Avenue:geo:-122.305136,37.5245477
END:VEVENT
BEGIN:VEVENT
DTSTART;TZID=America/Los_Angeles:20231226T093000
DTEND;TZID=America/Los_Angeles:20231226T150000
DTSTAMP:20260425T095516
CREATED:20230821T024255Z
LAST-MODIFIED:20230821T024255Z
UID:10001667-1703583000-1703602800@hopelutheransanmateo.org
SUMMARY:Quilters
DESCRIPTION:Join our group of enthusiastic quilters.  No quilting or sewing machine experience needed!  The group makes quilts which are given to needy organizations.  Good food\, coffee and fellowship abound.  We would love to have you attend!
URL:https://hopelutheransanmateo.org/event/quilters-2/2023-12-26/
LOCATION:Hope Lutheran Church\, 600 W. 42nd Avenue\, San Mateo\, 94403\, United States
CATEGORIES:Featured
ATTACH;FMTTYPE=image/jpeg:https://hopelutheransanmateo.org/wp-content/uploads/2022/09/quilting.jpg
GEO:37.5245477;-122.305136
X-APPLE-STRUCTURED-LOCATION;VALUE=URI;X-ADDRESS=Hope Lutheran Church 600 W. 42nd Avenue San Mateo 94403 United States;X-APPLE-RADIUS=500;X-TITLE=600 W. 42nd Avenue:geo:-122.305136,37.5245477
END:VEVENT
BEGIN:VEVENT
DTSTART;TZID=America/Los_Angeles:20231227T170000
DTEND;TZID=America/Los_Angeles:20231227T180000
DTSTAMP:20260425T095516
CREATED:20230821T160947Z
LAST-MODIFIED:20230821T160947Z
UID:10001700-1703696400-1703700000@hopelutheransanmateo.org
SUMMARY:Choir Rehearsal
DESCRIPTION:Music is a very important part of Hope Lutheran Church.   We would love to have you join the choir and participate in our beautiful music program.
URL:https://hopelutheransanmateo.org/event/choir-rehearsal/2023-12-27/
LOCATION:Hope Lutheran Church\, 600 W. 42nd Avenue\, San Mateo\, 94403\, United States
ATTACH;FMTTYPE=image/jpeg:https://hopelutheransanmateo.org/wp-content/uploads/2015/05/OrganBottom.jpg
GEO:37.5245477;-122.305136
X-APPLE-STRUCTURED-LOCATION;VALUE=URI;X-ADDRESS=Hope Lutheran Church 600 W. 42nd Avenue San Mateo 94403 United States;X-APPLE-RADIUS=500;X-TITLE=600 W. 42nd Avenue:geo:-122.305136,37.5245477
END:VEVENT
BEGIN:VEVENT
DTSTART;TZID=America/Los_Angeles:20231227T180000
DTEND;TZID=America/Los_Angeles:20231227T190000
DTSTAMP:20260425T095516
CREATED:20230821T161535Z
LAST-MODIFIED:20230821T161720Z
UID:10001740-1703700000-1703703600@hopelutheransanmateo.org
SUMMARY:Handbell Rehearsal
DESCRIPTION:Music is a very important part of our worship experience at Hope.   Led\, by our talented past choir director\, Alex Bootzin\, the bell choir shares their gifts of music with the congregation throughout the year — September through June.
URL:https://hopelutheransanmateo.org/event/handbell-rehearsal/2023-12-27/
LOCATION:Hope Lutheran Church\, 600 W. 42nd Avenue\, San Mateo\, 94403\, United States
ATTACH;FMTTYPE=image/jpeg:https://hopelutheransanmateo.org/wp-content/uploads/2021/12/BellChoirPic.jpg
GEO:37.5245477;-122.305136
X-APPLE-STRUCTURED-LOCATION;VALUE=URI;X-ADDRESS=Hope Lutheran Church 600 W. 42nd Avenue San Mateo 94403 United States;X-APPLE-RADIUS=500;X-TITLE=600 W. 42nd Avenue:geo:-122.305136,37.5245477
END:VEVENT
BEGIN:VEVENT
DTSTART;TZID=America/Los_Angeles:20231231T100000
DTEND;TZID=America/Los_Angeles:20231231T110000
DTSTAMP:20260425T095516
CREATED:20160815T061425Z
LAST-MODIFIED:20220914T200650Z
UID:10000550-1704016800-1704020400@hopelutheransanmateo.org
SUMMARY:Worship
DESCRIPTION:
URL:https://hopelutheransanmateo.org/event/worship/2023-12-31/
LOCATION:Hope Lutheran Church\, 600 W. 42nd Avenue\, San Mateo\, 94403\, United States
ATTACH;FMTTYPE=image/jpeg:https://hopelutheransanmateo.org/wp-content/uploads/2016/06/HopeLutheranCongregation.jpg
GEO:37.5245477;-122.305136
X-APPLE-STRUCTURED-LOCATION;VALUE=URI;X-ADDRESS=Hope Lutheran Church 600 W. 42nd Avenue San Mateo 94403 United States;X-APPLE-RADIUS=500;X-TITLE=600 W. 42nd Avenue:geo:-122.305136,37.5245477
END:VEVENT
BEGIN:VEVENT
DTSTART;TZID=America/Los_Angeles:20231231T110000
DTEND;TZID=America/Los_Angeles:20231231T120000
DTSTAMP:20260425T095516
CREATED:20160815T064728Z
LAST-MODIFIED:20220914T183314Z
UID:10000743-1704020400-1704024000@hopelutheransanmateo.org
SUMMARY:Café Hope
DESCRIPTION:Following the worship service\, everyone is invited to Nielsen Hall for fellowship\, coffee and refreshments.
URL:https://hopelutheransanmateo.org/event/cafe-hope/2023-12-31/
LOCATION:Hope Lutheran Church\, 600 W. 42nd Avenue\, San Mateo\, 94403\, United States
ATTACH;FMTTYPE=image/jpeg:https://hopelutheransanmateo.org/wp-content/uploads/2015/05/Coffee.jpg
GEO:37.5245477;-122.305136
X-APPLE-STRUCTURED-LOCATION;VALUE=URI;X-ADDRESS=Hope Lutheran Church 600 W. 42nd Avenue San Mateo 94403 United States;X-APPLE-RADIUS=500;X-TITLE=600 W. 42nd Avenue:geo:-122.305136,37.5245477
END:VEVENT
BEGIN:VEVENT
DTSTART;TZID=America/Los_Angeles:20240103T170000
DTEND;TZID=America/Los_Angeles:20240103T180000
DTSTAMP:20260425T095516
CREATED:20230821T160947Z
LAST-MODIFIED:20230821T160947Z
UID:10001701-1704301200-1704304800@hopelutheransanmateo.org
SUMMARY:Choir Rehearsal
DESCRIPTION:Music is a very important part of Hope Lutheran Church.   We would love to have you join the choir and participate in our beautiful music program.
URL:https://hopelutheransanmateo.org/event/choir-rehearsal/2024-01-03/
LOCATION:Hope Lutheran Church\, 600 W. 42nd Avenue\, San Mateo\, 94403\, United States
ATTACH;FMTTYPE=image/jpeg:https://hopelutheransanmateo.org/wp-content/uploads/2015/05/OrganBottom.jpg
GEO:37.5245477;-122.305136
X-APPLE-STRUCTURED-LOCATION;VALUE=URI;X-ADDRESS=Hope Lutheran Church 600 W. 42nd Avenue San Mateo 94403 United States;X-APPLE-RADIUS=500;X-TITLE=600 W. 42nd Avenue:geo:-122.305136,37.5245477
END:VEVENT
BEGIN:VEVENT
DTSTART;TZID=America/Los_Angeles:20240103T180000
DTEND;TZID=America/Los_Angeles:20240103T190000
DTSTAMP:20260425T095516
CREATED:20230821T161535Z
LAST-MODIFIED:20230821T161720Z
UID:10001741-1704304800-1704308400@hopelutheransanmateo.org
SUMMARY:Handbell Rehearsal
DESCRIPTION:Music is a very important part of our worship experience at Hope.   Led\, by our talented past choir director\, Alex Bootzin\, the bell choir shares their gifts of music with the congregation throughout the year — September through June.
URL:https://hopelutheransanmateo.org/event/handbell-rehearsal/2024-01-03/
LOCATION:Hope Lutheran Church\, 600 W. 42nd Avenue\, San Mateo\, 94403\, United States
ATTACH;FMTTYPE=image/jpeg:https://hopelutheransanmateo.org/wp-content/uploads/2021/12/BellChoirPic.jpg
GEO:37.5245477;-122.305136
X-APPLE-STRUCTURED-LOCATION;VALUE=URI;X-ADDRESS=Hope Lutheran Church 600 W. 42nd Avenue San Mateo 94403 United States;X-APPLE-RADIUS=500;X-TITLE=600 W. 42nd Avenue:geo:-122.305136,37.5245477
END:VEVENT
BEGIN:VEVENT
DTSTART;TZID=America/Los_Angeles:20240107T100000
DTEND;TZID=America/Los_Angeles:20240107T110000
DTSTAMP:20260425T095516
CREATED:20160815T061425Z
LAST-MODIFIED:20220914T200650Z
UID:10000551-1704621600-1704625200@hopelutheransanmateo.org
SUMMARY:Worship
DESCRIPTION:
URL:https://hopelutheransanmateo.org/event/worship/2024-01-07/
LOCATION:Hope Lutheran Church\, 600 W. 42nd Avenue\, San Mateo\, 94403\, United States
ATTACH;FMTTYPE=image/jpeg:https://hopelutheransanmateo.org/wp-content/uploads/2016/06/HopeLutheranCongregation.jpg
GEO:37.5245477;-122.305136
X-APPLE-STRUCTURED-LOCATION;VALUE=URI;X-ADDRESS=Hope Lutheran Church 600 W. 42nd Avenue San Mateo 94403 United States;X-APPLE-RADIUS=500;X-TITLE=600 W. 42nd Avenue:geo:-122.305136,37.5245477
END:VEVENT
BEGIN:VEVENT
DTSTART;TZID=America/Los_Angeles:20240107T110000
DTEND;TZID=America/Los_Angeles:20240107T120000
DTSTAMP:20260425T095516
CREATED:20160815T064728Z
LAST-MODIFIED:20220914T183314Z
UID:10000744-1704625200-1704628800@hopelutheransanmateo.org
SUMMARY:Café Hope
DESCRIPTION:Following the worship service\, everyone is invited to Nielsen Hall for fellowship\, coffee and refreshments.
URL:https://hopelutheransanmateo.org/event/cafe-hope/2024-01-07/
LOCATION:Hope Lutheran Church\, 600 W. 42nd Avenue\, San Mateo\, 94403\, United States
ATTACH;FMTTYPE=image/jpeg:https://hopelutheransanmateo.org/wp-content/uploads/2015/05/Coffee.jpg
GEO:37.5245477;-122.305136
X-APPLE-STRUCTURED-LOCATION;VALUE=URI;X-ADDRESS=Hope Lutheran Church 600 W. 42nd Avenue San Mateo 94403 United States;X-APPLE-RADIUS=500;X-TITLE=600 W. 42nd Avenue:geo:-122.305136,37.5245477
END:VEVENT
BEGIN:VEVENT
DTSTART;TZID=America/Los_Angeles:20240109T093000
DTEND;TZID=America/Los_Angeles:20240109T150000
DTSTAMP:20260425T095516
CREATED:20230821T022308Z
LAST-MODIFIED:20230821T022308Z
UID:10001622-1704792600-1704812400@hopelutheransanmateo.org
SUMMARY:Quilters
DESCRIPTION:Join our enthusiastic group of quilters who meet twice a month and create lovely quilts.  Most of the quilts are given each year to needy organizations.   You do not need to be a sewing expert to be able to help.   Good food\, coffee and fellowship are always in abundance.
URL:https://hopelutheransanmateo.org/event/quilters-3/2024-01-09/
LOCATION:Hope Lutheran Church\, 600 W. 42nd Avenue\, San Mateo\, 94403\, United States
CATEGORIES:Featured
ATTACH;FMTTYPE=image/jpeg:https://hopelutheransanmateo.org/wp-content/uploads/2022/09/quilting.jpg
GEO:37.5245477;-122.305136
X-APPLE-STRUCTURED-LOCATION;VALUE=URI;X-ADDRESS=Hope Lutheran Church 600 W. 42nd Avenue San Mateo 94403 United States;X-APPLE-RADIUS=500;X-TITLE=600 W. 42nd Avenue:geo:-122.305136,37.5245477
END:VEVENT
END:VCALENDAR