BEGIN:VCALENDAR
VERSION:2.0
PRODID:-//Hope Evangelical Lutheran Church - ECPv6.15.20//NONSGML v1.0//EN
CALSCALE:GREGORIAN
METHOD:PUBLISH
X-WR-CALNAME:Hope Evangelical Lutheran Church
X-ORIGINAL-URL:https://hopelutheransanmateo.org
X-WR-CALDESC:Events for Hope Evangelical Lutheran Church
REFRESH-INTERVAL;VALUE=DURATION:PT1H
X-Robots-Tag:noindex
X-PUBLISHED-TTL:PT1H
BEGIN:VTIMEZONE
TZID:America/Los_Angeles
BEGIN:DAYLIGHT
TZOFFSETFROM:-0800
TZOFFSETTO:-0700
TZNAME:PDT
DTSTART:20230312T100000
END:DAYLIGHT
BEGIN:STANDARD
TZOFFSETFROM:-0700
TZOFFSETTO:-0800
TZNAME:PST
DTSTART:20231105T090000
END:STANDARD
BEGIN:DAYLIGHT
TZOFFSETFROM:-0800
TZOFFSETTO:-0700
TZNAME:PDT
DTSTART:20240310T100000
END:DAYLIGHT
BEGIN:STANDARD
TZOFFSETFROM:-0700
TZOFFSETTO:-0800
TZNAME:PST
DTSTART:20241103T090000
END:STANDARD
BEGIN:DAYLIGHT
TZOFFSETFROM:-0800
TZOFFSETTO:-0700
TZNAME:PDT
DTSTART:20250309T100000
END:DAYLIGHT
BEGIN:STANDARD
TZOFFSETFROM:-0700
TZOFFSETTO:-0800
TZNAME:PST
DTSTART:20251102T090000
END:STANDARD
END:VTIMEZONE
BEGIN:VEVENT
DTSTART;TZID=America/Los_Angeles:20241013T110000
DTEND;TZID=America/Los_Angeles:20241013T120000
DTSTAMP:20260425T035711
CREATED:20240930T170015Z
LAST-MODIFIED:20240930T170252Z
UID:10001807-1728817200-1728820800@hopelutheransanmateo.org
SUMMARY:Café Hope
DESCRIPTION:Following the worship service\, everyone is invited to Nielsen Hall for fellowship\, coffee and refreshments.
URL:https://hopelutheransanmateo.org/event/church-fellowship/2024-10-13/
LOCATION:Hope Lutheran Church\, 600 W. 42nd Avenue\, San Mateo\, 94403\, United States
ATTACH;FMTTYPE=image/jpeg:https://hopelutheransanmateo.org/wp-content/uploads/2015/05/Coffee.jpg
GEO:37.5245477;-122.305136
X-APPLE-STRUCTURED-LOCATION;VALUE=URI;X-ADDRESS=Hope Lutheran Church 600 W. 42nd Avenue San Mateo 94403 United States;X-APPLE-RADIUS=500;X-TITLE=600 W. 42nd Avenue:geo:-122.305136,37.5245477
END:VEVENT
BEGIN:VEVENT
DTSTART;TZID=America/Los_Angeles:20241013T100000
DTEND;TZID=America/Los_Angeles:20241013T110000
DTSTAMP:20260425T035711
CREATED:20240930T173014Z
LAST-MODIFIED:20240930T175532Z
UID:10002069-1728813600-1728817200@hopelutheransanmateo.org
SUMMARY:Sunday Worship
DESCRIPTION:Please join us for our Sunday worship at 10am as we live our faith in Jesus Christ through listening\, singing and prayer.   We provide a children’s sermon each Sunday.   Communion is held twice a month.   All are very welcome!
URL:https://hopelutheransanmateo.org/event/sunday-worship/2024-10-13/
LOCATION:Hope Lutheran Church\, 600 W. 42nd Avenue\, San Mateo\, 94403\, United States
ATTACH;FMTTYPE=image/jpeg:https://hopelutheransanmateo.org/wp-content/uploads/2015/06/congregationallchoirsunday.jpg
GEO:37.5245477;-122.305136
X-APPLE-STRUCTURED-LOCATION;VALUE=URI;X-ADDRESS=Hope Lutheran Church 600 W. 42nd Avenue San Mateo 94403 United States;X-APPLE-RADIUS=500;X-TITLE=600 W. 42nd Avenue:geo:-122.305136,37.5245477
END:VEVENT
BEGIN:VEVENT
DTSTART;TZID=America/Los_Angeles:20241006T110000
DTEND;TZID=America/Los_Angeles:20241006T120000
DTSTAMP:20260425T035711
CREATED:20240930T170015Z
LAST-MODIFIED:20240930T170252Z
UID:10001806-1728212400-1728216000@hopelutheransanmateo.org
SUMMARY:Café Hope
DESCRIPTION:Following the worship service\, everyone is invited to Nielsen Hall for fellowship\, coffee and refreshments.
URL:https://hopelutheransanmateo.org/event/church-fellowship/2024-10-06/
LOCATION:Hope Lutheran Church\, 600 W. 42nd Avenue\, San Mateo\, 94403\, United States
ATTACH;FMTTYPE=image/jpeg:https://hopelutheransanmateo.org/wp-content/uploads/2015/05/Coffee.jpg
GEO:37.5245477;-122.305136
X-APPLE-STRUCTURED-LOCATION;VALUE=URI;X-ADDRESS=Hope Lutheran Church 600 W. 42nd Avenue San Mateo 94403 United States;X-APPLE-RADIUS=500;X-TITLE=600 W. 42nd Avenue:geo:-122.305136,37.5245477
END:VEVENT
BEGIN:VEVENT
DTSTART;TZID=America/Los_Angeles:20241006T100000
DTEND;TZID=America/Los_Angeles:20241006T110000
DTSTAMP:20260425T035711
CREATED:20240930T173014Z
LAST-MODIFIED:20240930T175532Z
UID:10002068-1728208800-1728212400@hopelutheransanmateo.org
SUMMARY:Sunday Worship
DESCRIPTION:Please join us for our Sunday worship at 10am as we live our faith in Jesus Christ through listening\, singing and prayer.   We provide a children’s sermon each Sunday.   Communion is held twice a month.   All are very welcome!
URL:https://hopelutheransanmateo.org/event/sunday-worship/2024-10-06/
LOCATION:Hope Lutheran Church\, 600 W. 42nd Avenue\, San Mateo\, 94403\, United States
ATTACH;FMTTYPE=image/jpeg:https://hopelutheransanmateo.org/wp-content/uploads/2015/06/congregationallchoirsunday.jpg
GEO:37.5245477;-122.305136
X-APPLE-STRUCTURED-LOCATION;VALUE=URI;X-ADDRESS=Hope Lutheran Church 600 W. 42nd Avenue San Mateo 94403 United States;X-APPLE-RADIUS=500;X-TITLE=600 W. 42nd Avenue:geo:-122.305136,37.5245477
END:VEVENT
BEGIN:VEVENT
DTSTART;TZID=America/Los_Angeles:20240929T110000
DTEND;TZID=America/Los_Angeles:20240929T120000
DTSTAMP:20260425T035711
CREATED:20240930T170015Z
LAST-MODIFIED:20240930T170252Z
UID:10001805-1727607600-1727611200@hopelutheransanmateo.org
SUMMARY:Café Hope
DESCRIPTION:Following the worship service\, everyone is invited to Nielsen Hall for fellowship\, coffee and refreshments.
URL:https://hopelutheransanmateo.org/event/church-fellowship/2024-09-29/
LOCATION:Hope Lutheran Church\, 600 W. 42nd Avenue\, San Mateo\, 94403\, United States
ATTACH;FMTTYPE=image/jpeg:https://hopelutheransanmateo.org/wp-content/uploads/2015/05/Coffee.jpg
GEO:37.5245477;-122.305136
X-APPLE-STRUCTURED-LOCATION;VALUE=URI;X-ADDRESS=Hope Lutheran Church 600 W. 42nd Avenue San Mateo 94403 United States;X-APPLE-RADIUS=500;X-TITLE=600 W. 42nd Avenue:geo:-122.305136,37.5245477
END:VEVENT
BEGIN:VEVENT
DTSTART;TZID=America/Los_Angeles:20240929T100000
DTEND;TZID=America/Los_Angeles:20240929T110000
DTSTAMP:20260425T035711
CREATED:20240930T173014Z
LAST-MODIFIED:20240930T175532Z
UID:10002416-1727604000-1727607600@hopelutheransanmateo.org
SUMMARY:Sunday Worship
DESCRIPTION:Please join us for our Sunday worship at 10am as we live our faith in Jesus Christ through listening\, singing and prayer.   We provide a children’s sermon each Sunday.   Communion is held twice a month.   All are very welcome!
URL:https://hopelutheransanmateo.org/event/sunday-worship/2024-09-29/
LOCATION:Hope Lutheran Church\, 600 W. 42nd Avenue\, San Mateo\, 94403\, United States
ATTACH;FMTTYPE=image/jpeg:https://hopelutheransanmateo.org/wp-content/uploads/2015/06/congregationallchoirsunday.jpg
GEO:37.5245477;-122.305136
X-APPLE-STRUCTURED-LOCATION;VALUE=URI;X-ADDRESS=Hope Lutheran Church 600 W. 42nd Avenue San Mateo 94403 United States;X-APPLE-RADIUS=500;X-TITLE=600 W. 42nd Avenue:geo:-122.305136,37.5245477
END:VEVENT
BEGIN:VEVENT
DTSTART;TZID=America/Los_Angeles:20240922T110000
DTEND;TZID=America/Los_Angeles:20240922T120000
DTSTAMP:20260425T035711
CREATED:20240930T170015Z
LAST-MODIFIED:20240930T170252Z
UID:10001804-1727002800-1727006400@hopelutheransanmateo.org
SUMMARY:Café Hope
DESCRIPTION:Following the worship service\, everyone is invited to Nielsen Hall for fellowship\, coffee and refreshments.
URL:https://hopelutheransanmateo.org/event/church-fellowship/2024-09-22/
LOCATION:Hope Lutheran Church\, 600 W. 42nd Avenue\, San Mateo\, 94403\, United States
ATTACH;FMTTYPE=image/jpeg:https://hopelutheransanmateo.org/wp-content/uploads/2015/05/Coffee.jpg
GEO:37.5245477;-122.305136
X-APPLE-STRUCTURED-LOCATION;VALUE=URI;X-ADDRESS=Hope Lutheran Church 600 W. 42nd Avenue San Mateo 94403 United States;X-APPLE-RADIUS=500;X-TITLE=600 W. 42nd Avenue:geo:-122.305136,37.5245477
END:VEVENT
BEGIN:VEVENT
DTSTART;TZID=America/Los_Angeles:20240915T110000
DTEND;TZID=America/Los_Angeles:20240915T120000
DTSTAMP:20260425T035711
CREATED:20240930T170015Z
LAST-MODIFIED:20240930T170252Z
UID:10000779-1726398000-1726401600@hopelutheransanmateo.org
SUMMARY:Café Hope
DESCRIPTION:Following the worship service\, everyone is invited to Nielsen Hall for fellowship\, coffee and refreshments.
URL:https://hopelutheransanmateo.org/event/church-fellowship/2024-09-15/
LOCATION:Hope Lutheran Church\, 600 W. 42nd Avenue\, San Mateo\, 94403\, United States
ATTACH;FMTTYPE=image/jpeg:https://hopelutheransanmateo.org/wp-content/uploads/2015/05/Coffee.jpg
GEO:37.5245477;-122.305136
X-APPLE-STRUCTURED-LOCATION;VALUE=URI;X-ADDRESS=Hope Lutheran Church 600 W. 42nd Avenue San Mateo 94403 United States;X-APPLE-RADIUS=500;X-TITLE=600 W. 42nd Avenue:geo:-122.305136,37.5245477
END:VEVENT
BEGIN:VEVENT
DTSTART;TZID=America/Los_Angeles:20240908T100000
DTEND;TZID=America/Los_Angeles:20240908T110000
DTSTAMP:20260425T035711
CREATED:20240930T170732Z
LAST-MODIFIED:20240930T170732Z
UID:10000586-1725789600-1725793200@hopelutheransanmateo.org
SUMMARY:Worship
DESCRIPTION:
URL:https://hopelutheransanmateo.org/event/worship-2/
LOCATION:Hope Lutheran Church\, 600 W. 42nd Avenue\, San Mateo\, 94403\, United States
ATTACH;FMTTYPE=image/jpeg:https://hopelutheransanmateo.org/wp-content/uploads/2016/06/HopeLutheranCongregation.jpg
GEO:37.5245477;-122.305136
X-APPLE-STRUCTURED-LOCATION;VALUE=URI;X-ADDRESS=Hope Lutheran Church 600 W. 42nd Avenue San Mateo 94403 United States;X-APPLE-RADIUS=500;X-TITLE=600 W. 42nd Avenue:geo:-122.305136,37.5245477
END:VEVENT
BEGIN:VEVENT
DTSTART;TZID=America/Los_Angeles:20240901T110000
DTEND;TZID=America/Los_Angeles:20240901T120000
DTSTAMP:20260425T035711
CREATED:20160815T064728Z
LAST-MODIFIED:20220914T183314Z
UID:10000778-1725188400-1725192000@hopelutheransanmateo.org
SUMMARY:Café Hope
DESCRIPTION:Following the worship service\, everyone is invited to Nielsen Hall for fellowship\, coffee and refreshments.
URL:https://hopelutheransanmateo.org/event/cafe-hope/2024-09-01/
LOCATION:Hope Lutheran Church\, 600 W. 42nd Avenue\, San Mateo\, 94403\, United States
ATTACH;FMTTYPE=image/jpeg:https://hopelutheransanmateo.org/wp-content/uploads/2015/05/Coffee.jpg
GEO:37.5245477;-122.305136
X-APPLE-STRUCTURED-LOCATION;VALUE=URI;X-ADDRESS=Hope Lutheran Church 600 W. 42nd Avenue San Mateo 94403 United States;X-APPLE-RADIUS=500;X-TITLE=600 W. 42nd Avenue:geo:-122.305136,37.5245477
END:VEVENT
BEGIN:VEVENT
DTSTART;TZID=America/Los_Angeles:20240901T100000
DTEND;TZID=America/Los_Angeles:20240901T110000
DTSTAMP:20260425T035711
CREATED:20160815T061425Z
LAST-MODIFIED:20220914T200650Z
UID:10000585-1725184800-1725188400@hopelutheransanmateo.org
SUMMARY:Worship
DESCRIPTION:
URL:https://hopelutheransanmateo.org/event/worship/2024-09-01/
LOCATION:Hope Lutheran Church\, 600 W. 42nd Avenue\, San Mateo\, 94403\, United States
ATTACH;FMTTYPE=image/jpeg:https://hopelutheransanmateo.org/wp-content/uploads/2016/06/HopeLutheranCongregation.jpg
GEO:37.5245477;-122.305136
X-APPLE-STRUCTURED-LOCATION;VALUE=URI;X-ADDRESS=Hope Lutheran Church 600 W. 42nd Avenue San Mateo 94403 United States;X-APPLE-RADIUS=500;X-TITLE=600 W. 42nd Avenue:geo:-122.305136,37.5245477
END:VEVENT
BEGIN:VEVENT
DTSTART;TZID=America/Los_Angeles:20240825T110000
DTEND;TZID=America/Los_Angeles:20240825T120000
DTSTAMP:20260425T035711
CREATED:20160815T064728Z
LAST-MODIFIED:20220914T183314Z
UID:10000777-1724583600-1724587200@hopelutheransanmateo.org
SUMMARY:Café Hope
DESCRIPTION:Following the worship service\, everyone is invited to Nielsen Hall for fellowship\, coffee and refreshments.
URL:https://hopelutheransanmateo.org/event/cafe-hope/2024-08-25/
LOCATION:Hope Lutheran Church\, 600 W. 42nd Avenue\, San Mateo\, 94403\, United States
ATTACH;FMTTYPE=image/jpeg:https://hopelutheransanmateo.org/wp-content/uploads/2015/05/Coffee.jpg
GEO:37.5245477;-122.305136
X-APPLE-STRUCTURED-LOCATION;VALUE=URI;X-ADDRESS=Hope Lutheran Church 600 W. 42nd Avenue San Mateo 94403 United States;X-APPLE-RADIUS=500;X-TITLE=600 W. 42nd Avenue:geo:-122.305136,37.5245477
END:VEVENT
BEGIN:VEVENT
DTSTART;TZID=America/Los_Angeles:20240825T100000
DTEND;TZID=America/Los_Angeles:20240825T110000
DTSTAMP:20260425T035711
CREATED:20160815T061425Z
LAST-MODIFIED:20220914T200650Z
UID:10000584-1724580000-1724583600@hopelutheransanmateo.org
SUMMARY:Worship
DESCRIPTION:
URL:https://hopelutheransanmateo.org/event/worship/2024-08-25/
LOCATION:Hope Lutheran Church\, 600 W. 42nd Avenue\, San Mateo\, 94403\, United States
ATTACH;FMTTYPE=image/jpeg:https://hopelutheransanmateo.org/wp-content/uploads/2016/06/HopeLutheranCongregation.jpg
GEO:37.5245477;-122.305136
X-APPLE-STRUCTURED-LOCATION;VALUE=URI;X-ADDRESS=Hope Lutheran Church 600 W. 42nd Avenue San Mateo 94403 United States;X-APPLE-RADIUS=500;X-TITLE=600 W. 42nd Avenue:geo:-122.305136,37.5245477
END:VEVENT
BEGIN:VEVENT
DTSTART;TZID=America/Los_Angeles:20240818T110000
DTEND;TZID=America/Los_Angeles:20240818T120000
DTSTAMP:20260425T035711
CREATED:20160815T064728Z
LAST-MODIFIED:20220914T183314Z
UID:10000776-1723978800-1723982400@hopelutheransanmateo.org
SUMMARY:Café Hope
DESCRIPTION:Following the worship service\, everyone is invited to Nielsen Hall for fellowship\, coffee and refreshments.
URL:https://hopelutheransanmateo.org/event/cafe-hope/2024-08-18/
LOCATION:Hope Lutheran Church\, 600 W. 42nd Avenue\, San Mateo\, 94403\, United States
ATTACH;FMTTYPE=image/jpeg:https://hopelutheransanmateo.org/wp-content/uploads/2015/05/Coffee.jpg
GEO:37.5245477;-122.305136
X-APPLE-STRUCTURED-LOCATION;VALUE=URI;X-ADDRESS=Hope Lutheran Church 600 W. 42nd Avenue San Mateo 94403 United States;X-APPLE-RADIUS=500;X-TITLE=600 W. 42nd Avenue:geo:-122.305136,37.5245477
END:VEVENT
BEGIN:VEVENT
DTSTART;TZID=America/Los_Angeles:20240818T100000
DTEND;TZID=America/Los_Angeles:20240818T110000
DTSTAMP:20260425T035711
CREATED:20160815T061425Z
LAST-MODIFIED:20220914T200650Z
UID:10000583-1723975200-1723978800@hopelutheransanmateo.org
SUMMARY:Worship
DESCRIPTION:
URL:https://hopelutheransanmateo.org/event/worship/2024-08-18/
LOCATION:Hope Lutheran Church\, 600 W. 42nd Avenue\, San Mateo\, 94403\, United States
ATTACH;FMTTYPE=image/jpeg:https://hopelutheransanmateo.org/wp-content/uploads/2016/06/HopeLutheranCongregation.jpg
GEO:37.5245477;-122.305136
X-APPLE-STRUCTURED-LOCATION;VALUE=URI;X-ADDRESS=Hope Lutheran Church 600 W. 42nd Avenue San Mateo 94403 United States;X-APPLE-RADIUS=500;X-TITLE=600 W. 42nd Avenue:geo:-122.305136,37.5245477
END:VEVENT
BEGIN:VEVENT
DTSTART;TZID=America/Los_Angeles:20240811T110000
DTEND;TZID=America/Los_Angeles:20240811T120000
DTSTAMP:20260425T035711
CREATED:20160815T064728Z
LAST-MODIFIED:20220914T183314Z
UID:10000775-1723374000-1723377600@hopelutheransanmateo.org
SUMMARY:Café Hope
DESCRIPTION:Following the worship service\, everyone is invited to Nielsen Hall for fellowship\, coffee and refreshments.
URL:https://hopelutheransanmateo.org/event/cafe-hope/2024-08-11/
LOCATION:Hope Lutheran Church\, 600 W. 42nd Avenue\, San Mateo\, 94403\, United States
ATTACH;FMTTYPE=image/jpeg:https://hopelutheransanmateo.org/wp-content/uploads/2015/05/Coffee.jpg
GEO:37.5245477;-122.305136
X-APPLE-STRUCTURED-LOCATION;VALUE=URI;X-ADDRESS=Hope Lutheran Church 600 W. 42nd Avenue San Mateo 94403 United States;X-APPLE-RADIUS=500;X-TITLE=600 W. 42nd Avenue:geo:-122.305136,37.5245477
END:VEVENT
BEGIN:VEVENT
DTSTART;TZID=America/Los_Angeles:20240811T100000
DTEND;TZID=America/Los_Angeles:20240811T110000
DTSTAMP:20260425T035711
CREATED:20160815T061425Z
LAST-MODIFIED:20220914T200650Z
UID:10000582-1723370400-1723374000@hopelutheransanmateo.org
SUMMARY:Worship
DESCRIPTION:
URL:https://hopelutheransanmateo.org/event/worship/2024-08-11/
LOCATION:Hope Lutheran Church\, 600 W. 42nd Avenue\, San Mateo\, 94403\, United States
ATTACH;FMTTYPE=image/jpeg:https://hopelutheransanmateo.org/wp-content/uploads/2016/06/HopeLutheranCongregation.jpg
GEO:37.5245477;-122.305136
X-APPLE-STRUCTURED-LOCATION;VALUE=URI;X-ADDRESS=Hope Lutheran Church 600 W. 42nd Avenue San Mateo 94403 United States;X-APPLE-RADIUS=500;X-TITLE=600 W. 42nd Avenue:geo:-122.305136,37.5245477
END:VEVENT
BEGIN:VEVENT
DTSTART;TZID=America/Los_Angeles:20240804T110000
DTEND;TZID=America/Los_Angeles:20240804T120000
DTSTAMP:20260425T035711
CREATED:20160815T064728Z
LAST-MODIFIED:20220914T183314Z
UID:10000774-1722769200-1722772800@hopelutheransanmateo.org
SUMMARY:Café Hope
DESCRIPTION:Following the worship service\, everyone is invited to Nielsen Hall for fellowship\, coffee and refreshments.
URL:https://hopelutheransanmateo.org/event/cafe-hope/2024-08-04/
LOCATION:Hope Lutheran Church\, 600 W. 42nd Avenue\, San Mateo\, 94403\, United States
ATTACH;FMTTYPE=image/jpeg:https://hopelutheransanmateo.org/wp-content/uploads/2015/05/Coffee.jpg
GEO:37.5245477;-122.305136
X-APPLE-STRUCTURED-LOCATION;VALUE=URI;X-ADDRESS=Hope Lutheran Church 600 W. 42nd Avenue San Mateo 94403 United States;X-APPLE-RADIUS=500;X-TITLE=600 W. 42nd Avenue:geo:-122.305136,37.5245477
END:VEVENT
BEGIN:VEVENT
DTSTART;TZID=America/Los_Angeles:20240804T100000
DTEND;TZID=America/Los_Angeles:20240804T110000
DTSTAMP:20260425T035711
CREATED:20160815T061425Z
LAST-MODIFIED:20220914T200650Z
UID:10000581-1722765600-1722769200@hopelutheransanmateo.org
SUMMARY:Worship
DESCRIPTION:
URL:https://hopelutheransanmateo.org/event/worship/2024-08-04/
LOCATION:Hope Lutheran Church\, 600 W. 42nd Avenue\, San Mateo\, 94403\, United States
ATTACH;FMTTYPE=image/jpeg:https://hopelutheransanmateo.org/wp-content/uploads/2016/06/HopeLutheranCongregation.jpg
GEO:37.5245477;-122.305136
X-APPLE-STRUCTURED-LOCATION;VALUE=URI;X-ADDRESS=Hope Lutheran Church 600 W. 42nd Avenue San Mateo 94403 United States;X-APPLE-RADIUS=500;X-TITLE=600 W. 42nd Avenue:geo:-122.305136,37.5245477
END:VEVENT
BEGIN:VEVENT
DTSTART;TZID=America/Los_Angeles:20240728T110000
DTEND;TZID=America/Los_Angeles:20240728T120000
DTSTAMP:20260425T035711
CREATED:20160815T064728Z
LAST-MODIFIED:20220914T183314Z
UID:10000773-1722164400-1722168000@hopelutheransanmateo.org
SUMMARY:Café Hope
DESCRIPTION:Following the worship service\, everyone is invited to Nielsen Hall for fellowship\, coffee and refreshments.
URL:https://hopelutheransanmateo.org/event/cafe-hope/2024-07-28/
LOCATION:Hope Lutheran Church\, 600 W. 42nd Avenue\, San Mateo\, 94403\, United States
ATTACH;FMTTYPE=image/jpeg:https://hopelutheransanmateo.org/wp-content/uploads/2015/05/Coffee.jpg
GEO:37.5245477;-122.305136
X-APPLE-STRUCTURED-LOCATION;VALUE=URI;X-ADDRESS=Hope Lutheran Church 600 W. 42nd Avenue San Mateo 94403 United States;X-APPLE-RADIUS=500;X-TITLE=600 W. 42nd Avenue:geo:-122.305136,37.5245477
END:VEVENT
BEGIN:VEVENT
DTSTART;TZID=America/Los_Angeles:20240728T100000
DTEND;TZID=America/Los_Angeles:20240728T110000
DTSTAMP:20260425T035711
CREATED:20160815T061425Z
LAST-MODIFIED:20220914T200650Z
UID:10000580-1722160800-1722164400@hopelutheransanmateo.org
SUMMARY:Worship
DESCRIPTION:
URL:https://hopelutheransanmateo.org/event/worship/2024-07-28/
LOCATION:Hope Lutheran Church\, 600 W. 42nd Avenue\, San Mateo\, 94403\, United States
ATTACH;FMTTYPE=image/jpeg:https://hopelutheransanmateo.org/wp-content/uploads/2016/06/HopeLutheranCongregation.jpg
GEO:37.5245477;-122.305136
X-APPLE-STRUCTURED-LOCATION;VALUE=URI;X-ADDRESS=Hope Lutheran Church 600 W. 42nd Avenue San Mateo 94403 United States;X-APPLE-RADIUS=500;X-TITLE=600 W. 42nd Avenue:geo:-122.305136,37.5245477
END:VEVENT
BEGIN:VEVENT
DTSTART;TZID=America/Los_Angeles:20240721T110000
DTEND;TZID=America/Los_Angeles:20240721T120000
DTSTAMP:20260425T035711
CREATED:20160815T064728Z
LAST-MODIFIED:20220914T183314Z
UID:10000772-1721559600-1721563200@hopelutheransanmateo.org
SUMMARY:Café Hope
DESCRIPTION:Following the worship service\, everyone is invited to Nielsen Hall for fellowship\, coffee and refreshments.
URL:https://hopelutheransanmateo.org/event/cafe-hope/2024-07-21/
LOCATION:Hope Lutheran Church\, 600 W. 42nd Avenue\, San Mateo\, 94403\, United States
ATTACH;FMTTYPE=image/jpeg:https://hopelutheransanmateo.org/wp-content/uploads/2015/05/Coffee.jpg
GEO:37.5245477;-122.305136
X-APPLE-STRUCTURED-LOCATION;VALUE=URI;X-ADDRESS=Hope Lutheran Church 600 W. 42nd Avenue San Mateo 94403 United States;X-APPLE-RADIUS=500;X-TITLE=600 W. 42nd Avenue:geo:-122.305136,37.5245477
END:VEVENT
BEGIN:VEVENT
DTSTART;TZID=America/Los_Angeles:20240721T100000
DTEND;TZID=America/Los_Angeles:20240721T110000
DTSTAMP:20260425T035711
CREATED:20160815T061425Z
LAST-MODIFIED:20220914T200650Z
UID:10000579-1721556000-1721559600@hopelutheransanmateo.org
SUMMARY:Worship
DESCRIPTION:
URL:https://hopelutheransanmateo.org/event/worship/2024-07-21/
LOCATION:Hope Lutheran Church\, 600 W. 42nd Avenue\, San Mateo\, 94403\, United States
ATTACH;FMTTYPE=image/jpeg:https://hopelutheransanmateo.org/wp-content/uploads/2016/06/HopeLutheranCongregation.jpg
GEO:37.5245477;-122.305136
X-APPLE-STRUCTURED-LOCATION;VALUE=URI;X-ADDRESS=Hope Lutheran Church 600 W. 42nd Avenue San Mateo 94403 United States;X-APPLE-RADIUS=500;X-TITLE=600 W. 42nd Avenue:geo:-122.305136,37.5245477
END:VEVENT
BEGIN:VEVENT
DTSTART;TZID=America/Los_Angeles:20240714T110000
DTEND;TZID=America/Los_Angeles:20240714T120000
DTSTAMP:20260425T035711
CREATED:20160815T064728Z
LAST-MODIFIED:20220914T183314Z
UID:10000771-1720954800-1720958400@hopelutheransanmateo.org
SUMMARY:Café Hope
DESCRIPTION:Following the worship service\, everyone is invited to Nielsen Hall for fellowship\, coffee and refreshments.
URL:https://hopelutheransanmateo.org/event/cafe-hope/2024-07-14/
LOCATION:Hope Lutheran Church\, 600 W. 42nd Avenue\, San Mateo\, 94403\, United States
ATTACH;FMTTYPE=image/jpeg:https://hopelutheransanmateo.org/wp-content/uploads/2015/05/Coffee.jpg
GEO:37.5245477;-122.305136
X-APPLE-STRUCTURED-LOCATION;VALUE=URI;X-ADDRESS=Hope Lutheran Church 600 W. 42nd Avenue San Mateo 94403 United States;X-APPLE-RADIUS=500;X-TITLE=600 W. 42nd Avenue:geo:-122.305136,37.5245477
END:VEVENT
BEGIN:VEVENT
DTSTART;TZID=America/Los_Angeles:20240714T100000
DTEND;TZID=America/Los_Angeles:20240714T110000
DTSTAMP:20260425T035711
CREATED:20160815T061425Z
LAST-MODIFIED:20220914T200650Z
UID:10000578-1720951200-1720954800@hopelutheransanmateo.org
SUMMARY:Worship
DESCRIPTION:
URL:https://hopelutheransanmateo.org/event/worship/2024-07-14/
LOCATION:Hope Lutheran Church\, 600 W. 42nd Avenue\, San Mateo\, 94403\, United States
ATTACH;FMTTYPE=image/jpeg:https://hopelutheransanmateo.org/wp-content/uploads/2016/06/HopeLutheranCongregation.jpg
GEO:37.5245477;-122.305136
X-APPLE-STRUCTURED-LOCATION;VALUE=URI;X-ADDRESS=Hope Lutheran Church 600 W. 42nd Avenue San Mateo 94403 United States;X-APPLE-RADIUS=500;X-TITLE=600 W. 42nd Avenue:geo:-122.305136,37.5245477
END:VEVENT
BEGIN:VEVENT
DTSTART;TZID=America/Los_Angeles:20240707T110000
DTEND;TZID=America/Los_Angeles:20240707T120000
DTSTAMP:20260425T035711
CREATED:20160815T064728Z
LAST-MODIFIED:20220914T183314Z
UID:10000770-1720350000-1720353600@hopelutheransanmateo.org
SUMMARY:Café Hope
DESCRIPTION:Following the worship service\, everyone is invited to Nielsen Hall for fellowship\, coffee and refreshments.
URL:https://hopelutheransanmateo.org/event/cafe-hope/2024-07-07/
LOCATION:Hope Lutheran Church\, 600 W. 42nd Avenue\, San Mateo\, 94403\, United States
ATTACH;FMTTYPE=image/jpeg:https://hopelutheransanmateo.org/wp-content/uploads/2015/05/Coffee.jpg
GEO:37.5245477;-122.305136
X-APPLE-STRUCTURED-LOCATION;VALUE=URI;X-ADDRESS=Hope Lutheran Church 600 W. 42nd Avenue San Mateo 94403 United States;X-APPLE-RADIUS=500;X-TITLE=600 W. 42nd Avenue:geo:-122.305136,37.5245477
END:VEVENT
BEGIN:VEVENT
DTSTART;TZID=America/Los_Angeles:20240707T100000
DTEND;TZID=America/Los_Angeles:20240707T110000
DTSTAMP:20260425T035711
CREATED:20160815T061425Z
LAST-MODIFIED:20220914T200650Z
UID:10000577-1720346400-1720350000@hopelutheransanmateo.org
SUMMARY:Worship
DESCRIPTION:
URL:https://hopelutheransanmateo.org/event/worship/2024-07-07/
LOCATION:Hope Lutheran Church\, 600 W. 42nd Avenue\, San Mateo\, 94403\, United States
ATTACH;FMTTYPE=image/jpeg:https://hopelutheransanmateo.org/wp-content/uploads/2016/06/HopeLutheranCongregation.jpg
GEO:37.5245477;-122.305136
X-APPLE-STRUCTURED-LOCATION;VALUE=URI;X-ADDRESS=Hope Lutheran Church 600 W. 42nd Avenue San Mateo 94403 United States;X-APPLE-RADIUS=500;X-TITLE=600 W. 42nd Avenue:geo:-122.305136,37.5245477
END:VEVENT
BEGIN:VEVENT
DTSTART;TZID=America/Los_Angeles:20240630T110000
DTEND;TZID=America/Los_Angeles:20240630T120000
DTSTAMP:20260425T035711
CREATED:20160815T064728Z
LAST-MODIFIED:20220914T183314Z
UID:10000769-1719745200-1719748800@hopelutheransanmateo.org
SUMMARY:Café Hope
DESCRIPTION:Following the worship service\, everyone is invited to Nielsen Hall for fellowship\, coffee and refreshments.
URL:https://hopelutheransanmateo.org/event/cafe-hope/2024-06-30/
LOCATION:Hope Lutheran Church\, 600 W. 42nd Avenue\, San Mateo\, 94403\, United States
ATTACH;FMTTYPE=image/jpeg:https://hopelutheransanmateo.org/wp-content/uploads/2015/05/Coffee.jpg
GEO:37.5245477;-122.305136
X-APPLE-STRUCTURED-LOCATION;VALUE=URI;X-ADDRESS=Hope Lutheran Church 600 W. 42nd Avenue San Mateo 94403 United States;X-APPLE-RADIUS=500;X-TITLE=600 W. 42nd Avenue:geo:-122.305136,37.5245477
END:VEVENT
BEGIN:VEVENT
DTSTART;TZID=America/Los_Angeles:20240630T100000
DTEND;TZID=America/Los_Angeles:20240630T110000
DTSTAMP:20260425T035711
CREATED:20160815T061425Z
LAST-MODIFIED:20220914T200650Z
UID:10000576-1719741600-1719745200@hopelutheransanmateo.org
SUMMARY:Worship
DESCRIPTION:
URL:https://hopelutheransanmateo.org/event/worship/2024-06-30/
LOCATION:Hope Lutheran Church\, 600 W. 42nd Avenue\, San Mateo\, 94403\, United States
ATTACH;FMTTYPE=image/jpeg:https://hopelutheransanmateo.org/wp-content/uploads/2016/06/HopeLutheranCongregation.jpg
GEO:37.5245477;-122.305136
X-APPLE-STRUCTURED-LOCATION;VALUE=URI;X-ADDRESS=Hope Lutheran Church 600 W. 42nd Avenue San Mateo 94403 United States;X-APPLE-RADIUS=500;X-TITLE=600 W. 42nd Avenue:geo:-122.305136,37.5245477
END:VEVENT
BEGIN:VEVENT
DTSTART;TZID=America/Los_Angeles:20240625T093000
DTEND;TZID=America/Los_Angeles:20240625T150000
DTSTAMP:20260425T035711
CREATED:20230821T024255Z
LAST-MODIFIED:20230821T024255Z
UID:10001673-1719307800-1719327600@hopelutheransanmateo.org
SUMMARY:Quilters
DESCRIPTION:Join our group of enthusiastic quilters.  No quilting or sewing machine experience needed!  The group makes quilts which are given to needy organizations.  Good food\, coffee and fellowship abound.  We would love to have you attend!
URL:https://hopelutheransanmateo.org/event/quilters-2/2024-06-25/
LOCATION:Hope Lutheran Church\, 600 W. 42nd Avenue\, San Mateo\, 94403\, United States
CATEGORIES:Featured
ATTACH;FMTTYPE=image/jpeg:https://hopelutheransanmateo.org/wp-content/uploads/2022/09/quilting.jpg
GEO:37.5245477;-122.305136
X-APPLE-STRUCTURED-LOCATION;VALUE=URI;X-ADDRESS=Hope Lutheran Church 600 W. 42nd Avenue San Mateo 94403 United States;X-APPLE-RADIUS=500;X-TITLE=600 W. 42nd Avenue:geo:-122.305136,37.5245477
END:VEVENT
END:VCALENDAR