BEGIN:VCALENDAR
VERSION:2.0
PRODID:-//Hope Evangelical Lutheran Church - ECPv6.15.20//NONSGML v1.0//EN
CALSCALE:GREGORIAN
METHOD:PUBLISH
X-ORIGINAL-URL:https://hopelutheransanmateo.org
X-WR-CALDESC:Events for Hope Evangelical Lutheran Church
REFRESH-INTERVAL;VALUE=DURATION:PT1H
X-Robots-Tag:noindex
X-PUBLISHED-TTL:PT1H
BEGIN:VTIMEZONE
TZID:America/Los_Angeles
BEGIN:DAYLIGHT
TZOFFSETFROM:-0800
TZOFFSETTO:-0700
TZNAME:PDT
DTSTART:20230312T100000
END:DAYLIGHT
BEGIN:STANDARD
TZOFFSETFROM:-0700
TZOFFSETTO:-0800
TZNAME:PST
DTSTART:20231105T090000
END:STANDARD
BEGIN:DAYLIGHT
TZOFFSETFROM:-0800
TZOFFSETTO:-0700
TZNAME:PDT
DTSTART:20240310T100000
END:DAYLIGHT
BEGIN:STANDARD
TZOFFSETFROM:-0700
TZOFFSETTO:-0800
TZNAME:PST
DTSTART:20241103T090000
END:STANDARD
BEGIN:DAYLIGHT
TZOFFSETFROM:-0800
TZOFFSETTO:-0700
TZNAME:PDT
DTSTART:20250309T100000
END:DAYLIGHT
BEGIN:STANDARD
TZOFFSETFROM:-0700
TZOFFSETTO:-0800
TZNAME:PST
DTSTART:20251102T090000
END:STANDARD
END:VTIMEZONE
BEGIN:VEVENT
DTSTART;TZID=America/Los_Angeles:20241222T100000
DTEND;TZID=America/Los_Angeles:20241222T110000
DTSTAMP:20260424T062510
CREATED:20240930T173014Z
LAST-MODIFIED:20240930T175532Z
UID:10002079-1734861600-1734865200@hopelutheransanmateo.org
SUMMARY:Sunday Worship
DESCRIPTION:Please join us for our Sunday worship at 10am as we live our faith in Jesus Christ through listening\, singing and prayer.   We provide a children’s sermon each Sunday.   Communion is held twice a month.   All are very welcome!
URL:https://hopelutheransanmateo.org/event/sunday-worship/2024-12-22/
LOCATION:Hope Lutheran Church\, 600 W. 42nd Avenue\, San Mateo\, 94403\, United States
ATTACH;FMTTYPE=image/jpeg:https://hopelutheransanmateo.org/wp-content/uploads/2015/06/congregationallchoirsunday.jpg
GEO:37.5245477;-122.305136
X-APPLE-STRUCTURED-LOCATION;VALUE=URI;X-ADDRESS=Hope Lutheran Church 600 W. 42nd Avenue San Mateo 94403 United States;X-APPLE-RADIUS=500;X-TITLE=600 W. 42nd Avenue:geo:-122.305136,37.5245477
END:VEVENT
BEGIN:VEVENT
DTSTART;TZID=America/Los_Angeles:20241222T110000
DTEND;TZID=America/Los_Angeles:20241222T120000
DTSTAMP:20260424T062510
CREATED:20240930T170015Z
LAST-MODIFIED:20240930T170252Z
UID:10001817-1734865200-1734868800@hopelutheransanmateo.org
SUMMARY:Café Hope
DESCRIPTION:Following the worship service\, everyone is invited to Nielsen Hall for fellowship\, coffee and refreshments.
URL:https://hopelutheransanmateo.org/event/church-fellowship/2024-12-22/
LOCATION:Hope Lutheran Church\, 600 W. 42nd Avenue\, San Mateo\, 94403\, United States
ATTACH;FMTTYPE=image/jpeg:https://hopelutheransanmateo.org/wp-content/uploads/2015/05/Coffee.jpg
GEO:37.5245477;-122.305136
X-APPLE-STRUCTURED-LOCATION;VALUE=URI;X-ADDRESS=Hope Lutheran Church 600 W. 42nd Avenue San Mateo 94403 United States;X-APPLE-RADIUS=500;X-TITLE=600 W. 42nd Avenue:geo:-122.305136,37.5245477
END:VEVENT
BEGIN:VEVENT
DTSTART;TZID=America/Los_Angeles:20241224T170000
DTEND;TZID=America/Los_Angeles:20241224T180000
DTSTAMP:20260424T062510
CREATED:20241201T024440Z
LAST-MODIFIED:20241221T050416Z
UID:10002419-1735059600-1735063200@hopelutheransanmateo.org
SUMMARY:Christmas Eve at Hope
DESCRIPTION:Please join us on Christmas Eve!  Enjoy carols\, familiar readings and a Christmas message.  Communion will be served for those who would like.
URL:https://hopelutheransanmateo.org/event/christmas-eve-at-hope/
LOCATION:Hope Lutheran Church\, 600 W. 42nd Avenue\, San Mateo\, 94403\, United States
CATEGORIES:Featured
ATTACH;FMTTYPE=image/jpeg:https://hopelutheransanmateo.org/wp-content/uploads/2024/11/ChristmasEve2024.jpg
GEO:37.5245477;-122.305136
X-APPLE-STRUCTURED-LOCATION;VALUE=URI;X-ADDRESS=Hope Lutheran Church 600 W. 42nd Avenue San Mateo 94403 United States;X-APPLE-RADIUS=500;X-TITLE=600 W. 42nd Avenue:geo:-122.305136,37.5245477
END:VEVENT
END:VCALENDAR