BEGIN:VCALENDAR
VERSION:2.0
PRODID:-//Hope Evangelical Lutheran Church - ECPv6.15.20//NONSGML v1.0//EN
CALSCALE:GREGORIAN
METHOD:PUBLISH
X-WR-CALNAME:Hope Evangelical Lutheran Church
X-ORIGINAL-URL:https://hopelutheransanmateo.org
X-WR-CALDESC:Events for Hope Evangelical Lutheran Church
REFRESH-INTERVAL;VALUE=DURATION:PT1H
X-Robots-Tag:noindex
X-PUBLISHED-TTL:PT1H
BEGIN:VTIMEZONE
TZID:America/Los_Angeles
BEGIN:DAYLIGHT
TZOFFSETFROM:-0800
TZOFFSETTO:-0700
TZNAME:PDT
DTSTART:20240310T100000
END:DAYLIGHT
BEGIN:STANDARD
TZOFFSETFROM:-0700
TZOFFSETTO:-0800
TZNAME:PST
DTSTART:20241103T090000
END:STANDARD
BEGIN:DAYLIGHT
TZOFFSETFROM:-0800
TZOFFSETTO:-0700
TZNAME:PDT
DTSTART:20250309T100000
END:DAYLIGHT
BEGIN:STANDARD
TZOFFSETFROM:-0700
TZOFFSETTO:-0800
TZNAME:PST
DTSTART:20251102T090000
END:STANDARD
BEGIN:DAYLIGHT
TZOFFSETFROM:-0800
TZOFFSETTO:-0700
TZNAME:PDT
DTSTART:20260308T100000
END:DAYLIGHT
BEGIN:STANDARD
TZOFFSETFROM:-0700
TZOFFSETTO:-0800
TZNAME:PST
DTSTART:20261101T090000
END:STANDARD
END:VTIMEZONE
BEGIN:VEVENT
DTSTART;TZID=America/Los_Angeles:20250413T100000
DTEND;TZID=America/Los_Angeles:20250413T110000
DTSTAMP:20260423T231959
CREATED:20250319T234927Z
LAST-MODIFIED:20260213T212450Z
UID:10002095-1744538400-1744542000@hopelutheransanmateo.org
SUMMARY:Palm Sunday
DESCRIPTION:Hope will celebrate Palm Sunday at 10am on March 29.  Palm Sunday commemorates Jesus’ triumphal entry into Jerusalem\, where he was greeted by cheering crowds waving palm branches\, marking the beginning of Holy Week and the last week of Lent.   Please join us. \n  \n 
URL:https://hopelutheransanmateo.org/event/sunday-worship-2-3/2025-04-13/
LOCATION:Hope Lutheran Church\, 600 W. 42nd Avenue\, San Mateo\, 94403\, United States
CATEGORIES:Featured
ATTACH;FMTTYPE=image/jpeg:https://hopelutheransanmateo.org/wp-content/uploads/2024/12/LentThumbnail.jpg
GEO:37.5245477;-122.305136
X-APPLE-STRUCTURED-LOCATION;VALUE=URI;X-ADDRESS=Hope Lutheran Church 600 W. 42nd Avenue San Mateo 94403 United States;X-APPLE-RADIUS=500;X-TITLE=600 W. 42nd Avenue:geo:-122.305136,37.5245477
END:VEVENT
BEGIN:VEVENT
DTSTART;TZID=America/Los_Angeles:20250413T110000
DTEND;TZID=America/Los_Angeles:20250413T120000
DTSTAMP:20260423T231959
CREATED:20250320T000738Z
LAST-MODIFIED:20250320T000740Z
UID:10001833-1744542000-1744545600@hopelutheransanmateo.org
SUMMARY:Palm Sunday Brunch
DESCRIPTION:Please join us for a wonderful brunch following our Palm Sunday service.   All are very welcome!
URL:https://hopelutheransanmateo.org/event/church-fellowship-2/
LOCATION:Hope Lutheran Church\, 600 W. 42nd Avenue\, San Mateo\, 94403\, United States
ATTACH;FMTTYPE=image/jpeg:https://hopelutheransanmateo.org/wp-content/uploads/2024/09/InternationalBrunch.jpg
GEO:37.5245477;-122.305136
X-APPLE-STRUCTURED-LOCATION;VALUE=URI;X-ADDRESS=Hope Lutheran Church 600 W. 42nd Avenue San Mateo 94403 United States;X-APPLE-RADIUS=500;X-TITLE=600 W. 42nd Avenue:geo:-122.305136,37.5245477
END:VEVENT
BEGIN:VEVENT
DTSTART;TZID=America/Los_Angeles:20250415T103000
DTEND;TZID=America/Los_Angeles:20250415T113000
DTSTAMP:20260423T231959
CREATED:20240930T175150Z
LAST-MODIFIED:20240930T175150Z
UID:10002407-1744713000-1744716600@hopelutheransanmateo.org
SUMMARY:Women's Bible Study
DESCRIPTION:Our Women’s Bible Study is held monthly on the 3rd Tuesday of each month at 10:30 in Nielsen Hall.   Please join us if you can.
URL:https://hopelutheransanmateo.org/event/womens-bible-study-3/2025-04-15/
LOCATION:Hope Lutheran Church\, 600 W. 42nd Avenue\, San Mateo\, 94403\, United States
CATEGORIES:Featured
ATTACH;FMTTYPE=image/jpeg:https://hopelutheransanmateo.org/wp-content/uploads/2021/12/freely-10226-1-scaled.jpg
GEO:37.5245477;-122.305136
X-APPLE-STRUCTURED-LOCATION;VALUE=URI;X-ADDRESS=Hope Lutheran Church 600 W. 42nd Avenue San Mateo 94403 United States;X-APPLE-RADIUS=500;X-TITLE=600 W. 42nd Avenue:geo:-122.305136,37.5245477
END:VEVENT
BEGIN:VEVENT
DTSTART;TZID=America/Los_Angeles:20250418T170000
DTEND;TZID=America/Los_Angeles:20250418T180000
DTSTAMP:20260423T231959
CREATED:20250320T155516Z
LAST-MODIFIED:20260216T190641Z
UID:10002491-1744995600-1744999200@hopelutheransanmateo.org
SUMMARY:Good Friday
DESCRIPTION:We will gather at Hope at 4pm to commemorate the crucifixion of Jesus and his death at Calvary.  If Easter is the celebration of Christ’s resurrection from the tomb\, Good Friday is the day in which the church commemorates everything from his condemnation to his passion.  Please join us.
URL:https://hopelutheransanmateo.org/event/good-friday/
LOCATION:Hope Lutheran Church\, 600 W. 42nd Avenue\, San Mateo\, 94403\, United States
CATEGORIES:Featured
ATTACH;FMTTYPE=image/jpeg:https://hopelutheransanmateo.org/wp-content/uploads/2025/03/Good-Friday-scaled-e1742486091294.jpg
GEO:37.5245477;-122.305136
X-APPLE-STRUCTURED-LOCATION;VALUE=URI;X-ADDRESS=Hope Lutheran Church 600 W. 42nd Avenue San Mateo 94403 United States;X-APPLE-RADIUS=500;X-TITLE=600 W. 42nd Avenue:geo:-122.305136,37.5245477
END:VEVENT
END:VCALENDAR